BEGIN:VCALENDAR
VERSION:2.0
PRODID:-//TYPO3/NONSGML MUK Events//EN
METHOD:PUBLISH
BEGIN:VTIMEZONE
TZID:W. Europe Standard Time
BEGIN:STANDARD
TZNAME:W. Europe Standard Time
DTSTART:20060218T193000
TZOFFSETFROM:+0200
TZOFFSETTO:+0100
RRULE:FREQ=YEARLY;BYDAY=-1SU;BYMONTH=10
END:STANDARD
BEGIN:DAYLIGHT
TZNAME:W. Europe Standard Time
DTSTART:16010101T020000
TZOFFSETFROM:+0100
TZOFFSETTO:+0200
RRULE:FREQ=YEARLY;BYDAY=-1SU;BYMONTH=3
END:DAYLIGHT
END:VTIMEZONE
BEGIN:VEVENT
ORGANIZER:MAILTO:office@muk.ac.at
UID:bc812c9b-3956-4d17-88de-5e2d152ddc5b
DTSTAMP:20060218T193000Z
DTSTART;TZID="W. Europe Standard Time":20060218T193000
DTEND;TZID="W. Europe Standard Time":20060218T193000
LOCATION:RadioKulturhaus
TRANSP:OPAQUE
SUMMARY:Preisträger-Präsentation Fidelio-Wettbewerb 2006
DESCRIPTION:Studierende aller Sparten der Konservatorium Wien Privatuniversität stellen alljährlich in einem internen Wettbewerb eindrucksvoll ihr Können unter Beweis. Überzeugen Sie sich bei der Präsentation am 18. 2. im ORF-RadioKulturhaus vom hohen Niveau und der künstlerischen Professionalität der Siegerbeiträge. Der Abend wird durch einen Mitschnitt dokumentiert, der in Folge im ORF-Shop und an der Konservatorium Wien Privatuniversität erhältlich ist.
Programm:
Noch Käantn!?
Birgit und Nicole Radeschnig, Musikalisches Unterhaltungstheater
— 
Jean-Baptiste Arban (1825—1889)Der Karneval von VenedigIntroduktion, Air und 4 Variationen
Roman Sprinzl, TubaAna Dimova, Klavier
—
Sergej Prokofjew (1891—1953)aus Aschenputtel op. 97Adagio
Sebastian Bru, VioloncelloNatalie Baich, Klavier
—
Paule Maurice (1910—1967) aus Tableaux de ProvenceI. Faranduolo di ChatouonoII. Cansoun per Ma Mio 
Noëmi Schwank, SaxophonAna Dimova, Klavier
—
Richard Strauss (1864—1949)Ständchen op. 17/2Zueignung op. 10/1 
Simona Oravcova, SologesangVolker Nemmer, Klavier
—
Hanns Eisler (1898—1962)/Kurt Tucholsky (1890—1935)Anna Luise (Wenn die Igel in der Abendstunde)
Christopher DurangAuf wilder Suche
Tobias Fend, Schauspiel Diana Ottilia Gaurean, Klavier
—
Loriot (geb. 1923)Inhaltsangabe
Andrea Haller, Schauspiel
—
Pause
—Preisübergabe
—
Eine Kölnerin in Wien
Andrea Frohn, Musikalisches UnterhaltungstheaterLászló Kövi, Klavier
—
Instant Kunst 2006         Vincent Bueno, Musikalisches Unterhaltungstheater Tomas Tomke, Musikalisches Unterhaltungstheater Lior Kretzer, Klavier     
—
Franz Janoska: Epilog (Jazz-Komposition) 
Roman Janoska, Violine Franz Janoska, Klavier Tibor Janoska, Kontrabass 
—Clemens Wenger: Circus Tomate (Jazz) Clemens Wenger, KlavierWolfgang Schiftner, Jazz-Saxophon
—
Liste aller PreisträgerInnen 2006
2006 fand bereits der fünfte Fidelio-Wettbewerb statt. Veranstaltet und finanziell getragen wird der Wettbewerb zur Förderung junger Künstler der Konservatorium Wien Privatuniversität von der Hugo-Breitner-Gesellschaft in Zusammenarbeit mit Tsuzuki-Stiftung und Enami-Stiftung und mit Unterstützung der Kulturabteilung der Stadt Wien, des Rotary Clubs Wien Graben, der Kommunalkredit Austria AG und ORF-Ö1 durchgeführt.
PRIORITY:5
CLASS:PUBLIC
BEGIN:VALARM
TRIGGER:-PT15M
ACTION:DISPLAY
DESCRIPTION:Reminder
END:VALARM
END:VEVENT
END:VCALENDAR
