BEGIN:VCALENDAR
VERSION:2.0
PRODID:-//TYPO3/NONSGML MUK Events//EN
METHOD:PUBLISH
BEGIN:VTIMEZONE
TZID:W. Europe Standard Time
BEGIN:STANDARD
TZNAME:W. Europe Standard Time
DTSTART:20060227T193000
TZOFFSETFROM:+0200
TZOFFSETTO:+0100
RRULE:FREQ=YEARLY;BYDAY=-1SU;BYMONTH=10
END:STANDARD
BEGIN:DAYLIGHT
TZNAME:W. Europe Standard Time
DTSTART:16010101T020000
TZOFFSETFROM:+0100
TZOFFSETTO:+0200
RRULE:FREQ=YEARLY;BYDAY=-1SU;BYMONTH=3
END:DAYLIGHT
END:VTIMEZONE
BEGIN:VEVENT
ORGANIZER:MAILTO:office@muk.ac.at
UID:bc812c9b-3956-4d17-88de-5e2d152ddc5b
DTSTAMP:20060227T193000Z
DTSTART;TZID="W. Europe Standard Time":20060227T193000
DTEND;TZID="W. Europe Standard Time":20060227T193000
LOCATION:Konservatorium Wien Privatuniversität, Singerstraße Raum 1
TRANSP:OPAQUE
SUMMARY:Podium Operette III
DESCRIPTION:Operette von A-ZLehrgang Klassische OperetteLeitung: Wolfgang DoschMusikalische Leitung: Klara TorbovChoreografie: Liane ZahariaDer Lehrgang Klassische Operette an der Konservatorium Wien Privatuniversität widmet sich in Theorie und Praxis der Pflege jener typisch österreichischen, mitteleuropäischen Kunstform der Operette und ist damit einzigartig im gesamten deutschsprachigen Raum.Die Leitung des Lehrganges hat Wolfgang Dosch inne, der als Sänger und Schauspieler, Regisseur und Theaterwissenschafter als anerkannter Fachmann des Musikalischen Unterhaltungstheaters gilt.
Neben einer gesamten Operettenproduktion jährlich (zuletzt Die Landstreicher, Der Zarewitsch, Wiener Blut, Der Zigeunerbaron, Die Fledermaus) erarbeitet der Lehrgang Podien mit unterschiedlichen Schwerpunkten (Gedenkkonzerte für Ralph Benatzky, Robert Stolz, Oscar Straus, Fred Raymond, Emmerich Kálmán, Operette des 19. Jahrhunderts, etc.), bei denen wir auch u. a. Charles Kálmán, Einzi und Hans Stolz, Helga Benatzky, Eva-Maria Raymond in Wien begrüßen konnten.
Mit dem Podium Operette III, OPERETTE VON A-Z, begibt sich der Lehrgang auf die Suche nach den Wurzeln dieser schillernden Kunstform im 18. Jahrhundert und ihrer Entwicklung im 19. und 20. Jahrhundert. Singspiel, Oper, Revue, Cabaret, Musical – und das alles zusammen? Eben Operette!
PRIORITY:5
CLASS:PUBLIC
BEGIN:VALARM
TRIGGER:-PT15M
ACTION:DISPLAY
DESCRIPTION:Reminder
END:VALARM
END:VEVENT
END:VCALENDAR
