BEGIN:VCALENDAR
VERSION:2.0
PRODID:-//TYPO3/NONSGML MUK Events//EN
METHOD:PUBLISH
BEGIN:VTIMEZONE
TZID:W. Europe Standard Time
BEGIN:STANDARD
TZNAME:W. Europe Standard Time
DTSTART:20070320T110000
TZOFFSETFROM:+0200
TZOFFSETTO:+0100
RRULE:FREQ=YEARLY;BYDAY=-1SU;BYMONTH=10
END:STANDARD
BEGIN:DAYLIGHT
TZNAME:W. Europe Standard Time
DTSTART:16010101T020000
TZOFFSETFROM:+0100
TZOFFSETTO:+0200
RRULE:FREQ=YEARLY;BYDAY=-1SU;BYMONTH=3
END:DAYLIGHT
END:VTIMEZONE
BEGIN:VEVENT
ORGANIZER:MAILTO:office@muk.ac.at
UID:bc812c9b-3956-4d17-88de-5e2d152ddc5b
DTSTAMP:20070320T110000Z
DTSTART;TZID="W. Europe Standard Time":20070320T110000
DTEND;TZID="W. Europe Standard Time":20070320T110000
LOCATION:
TRANSP:OPAQUE
SUMMARY:Phil Markowitz Trio - Workshop
DESCRIPTION:featuring:Phil Markowitz, KlavierJay Anderson, Bass  Adam Nussbaum, Drums
Wir freuen uns, damit drei absolute Spitzenmusiker der amerikanischen und internationalen Jazzszene präsentieren zu können. Jeder einzelne hat mit so vielen namhaften, ja legendären Jazzmusikern konzertiert und aufgenommen, dass sich eine Aufzählung erübrigt.Die Musiker werden Masterclasses auf ihrem jeweiligen Instrument (11:00 bis 13:00 Uhr) und anschließend gemeinsam einen Ensemble-Workshop zu den Themen Kommunikation in der Rhythmusgruppe, Kommunikation mit dem Solisten, Improvisation etc. geben.
Aktive Teilnahme nur für Studierende der Konservatorium Wien Privatuniversität.
PRIORITY:5
CLASS:PUBLIC
BEGIN:VALARM
TRIGGER:-PT15M
ACTION:DISPLAY
DESCRIPTION:Reminder
END:VALARM
END:VEVENT
END:VCALENDAR
