BEGIN:VCALENDAR
VERSION:2.0
PRODID:-//TYPO3/NONSGML MUK Events//EN
METHOD:PUBLISH
BEGIN:VTIMEZONE
TZID:W. Europe Standard Time
BEGIN:STANDARD
TZNAME:W. Europe Standard Time
DTSTART:20080125T100000
TZOFFSETFROM:+0200
TZOFFSETTO:+0100
RRULE:FREQ=YEARLY;BYDAY=-1SU;BYMONTH=10
END:STANDARD
BEGIN:DAYLIGHT
TZNAME:W. Europe Standard Time
DTSTART:16010101T020000
TZOFFSETFROM:+0100
TZOFFSETTO:+0200
RRULE:FREQ=YEARLY;BYDAY=-1SU;BYMONTH=3
END:DAYLIGHT
END:VTIMEZONE
BEGIN:VEVENT
ORGANIZER:MAILTO:office@muk.ac.at
UID:bc812c9b-3956-4d17-88de-5e2d152ddc5b
DTSTAMP:20080125T100000Z
DTSTART;TZID="W. Europe Standard Time":20080125T100000
DTEND;TZID="W. Europe Standard Time":20080126T123000
LOCATION:Konservatorium Wien Privatuniversität, Seminarraum Singerstraße
TRANSP:OPAQUE
SUMMARY:Peter Van Heyghen - Workshop Alte Musik
DESCRIPTION:Im Kontext des Symposiums Mode Mythos Wissenschaft hält der international renommierte Renaissance- und Barockmusiker Peter Van Heyghen einen Workshop für Studierende der Konservatorium Wien Privatuniversität.Elementare Spielfreude gepaart mit handwerklicher Verfeinerung und inhaltlicher Vertiefung – das sind die Merkmale  der Interpretationen von Peter van Heyghen. Sein beständige Streben nach der perfekten Beherrschung einer musikalischen Gestik, welche vollständig auf dem Prinzip der jeglicher barocken Kunst so wesentlichen und inhärenten Theatralität aufbaut. reicht viel weiter als eine bloß »korrekte« Ausführung einer Partitur. Sie hat ihren Ursprung in der festen Überzeugung, dass diese auf Affektenlehre und Rhetorik gegründete Sprache der Gestik und Theatralität nicht nur ein unumgehbares Charakteristikum barocker Ästhetik ist, sondern einen eigenen, essentiell universellen Charakter besitzt. 
Peter van Heyghen studierte Blockflöte und Gesang am Konservatorium in Gent und ist heute ein international anerkannter Spezialist für Historische Aufführungspraxis von Barock- und Renaissancemusik. Er konzertiert weltweit als Solist, mit dem Blockflöten-Consort Mezzaluna, mit dem Kammermusikensemble More Maiorum, als Ko-Leiter des niederländischen Vokalensembles Cappella Pratensis und als Dirigent und künstlerischer Leiter des Brüsseler Barockorchesters Les Muffatti. Peter Van Heyghen ist regelmäßig auf verschiedenen Festivals für Alte Musik zu Gast, so z. B. in Brügge, Antwerpen, Utrecht und St. Petersburg.Im Jahre 2005 wurde er vom flämischen Radiosender Klara zum "Festivalstar" des Brügger Musica Antiqua Festivals gekürt. Ab 2007 ist er für drei Jahre mit seinen Ensembles "Artist in Residence" im Zentrum für Alte Musik Augustinus in Antwerpen. Er hat CDs für die Label Passacaille, Eufoda, Accent, Opus 111, Klara und Ramée eingespielt.Peter Van Heyghen ist außerdem als Musikwissenschaftler, Publizist und Lehrer aktiv. Er unterrichtet Historische Aufführungspraxis an den Königlichen Konservatorien in Den Haag und Brüssel gibt regelmäßig Meisterkurse, Workshops und Gastvorlesungen im In- und Ausland.In den letzten Jahren ist Peter Van Heyghen zunehmend als Dirigent und Lehrer auf dem Gebiet der Barockoper tätig. Zusammen mit der Regisseurin und Choreographin Sigrid T'Hooft leitet er seit 2003 den Opernworkshop im Rahmen der Händel-Akademie in Karlsruhe, und beide sind eingeladen, im Februar 2009 am Badischen Staatstheater Karlsruhe die künstlerische Leitung für die Produktion der Händeloper Radamisto zu übernehmen.
Zeitplan:
Freitag, 25.1.08  
10-11 Uhr
Georg Philipp Telemann (1681-1767)Triosonate e-mollAffettuosoAllegroGraveAllegro
Kinga Krommer, Flauto traversoBarbara Urthaler, BarockoboeMoritz Nusko, BarockfagottDonát Tamás Deáky, Cembalo
11-12 Uhr
Diego Ortiz (1510/25–1570)Recercada Secunda (Passamezzo Nuovo)Recercada Primera (Passamezzo Antico)Recercada Settima (Romanesca)Recercada Ottava (Chi passa; La Folia)Quinta Pars (Ruggiero)
Dalma Makkos, Viola da Gamba Akos Handler, Laute 
12-13 Uhr
André Campra (1660 - 1744)Cantate "Le Papillon" pour voix seul, Dessus et Basse continue
Ursula Fiedler, SopranAndrea Straßberger, BarockoboeTilla Dotzler, Viola da GambaEugene Michelangeli, Cembalo
 
Samstag, 26.1.08  
9:30-10:30 Uhr
Johann Philipp Krieger (1649 – 1725)aus Sonate á doi
Sonata TerzaLargo-Allegro-adagioAllegro-Presto-adagio-poco Allegro-AllegroGigue
Elisabeth Wiesbauer, BarockviolineEva NeunhäusererErich Traxler
10:30-11:30 Uhr
Heinrich Ignaz Franz Biber von Bibern (1644 – 1704)Mensa Sonora seu musica instrumentalis, Pars I
Ivan Becka, BarockviolineKatja Katanova, BarockviolineFani Vovoni, BarockviolaKarin Heinz, BarockcelloKit Scotney, VioloneDmitry Bondarenko, Cembalo
11:30-12:30 Uhr
Johann Joachim Quantz (1697 - 1773)Triosonate c-mollAndante moderatoAllegroLarghettoVivace
Yi-Mei Cheng, Flauto traversoYoung-mi Park, BarockoboeDalma Makkos, Viola da Gamba Akos Handler, Laute Zsuzsanna Reibach, Cembalo

PRIORITY:5
CLASS:PUBLIC
BEGIN:VALARM
TRIGGER:-PT15M
ACTION:DISPLAY
DESCRIPTION:Reminder
END:VALARM
END:VEVENT
END:VCALENDAR
