BEGIN:VCALENDAR
VERSION:2.0
PRODID:-//TYPO3/NONSGML MUK Events//EN
METHOD:PUBLISH
BEGIN:VTIMEZONE
TZID:W. Europe Standard Time
BEGIN:STANDARD
TZNAME:W. Europe Standard Time
DTSTART:20070123T150000
TZOFFSETFROM:+0200
TZOFFSETTO:+0100
RRULE:FREQ=YEARLY;BYDAY=-1SU;BYMONTH=10
END:STANDARD
BEGIN:DAYLIGHT
TZNAME:W. Europe Standard Time
DTSTART:16010101T020000
TZOFFSETFROM:+0100
TZOFFSETTO:+0200
RRULE:FREQ=YEARLY;BYDAY=-1SU;BYMONTH=3
END:DAYLIGHT
END:VTIMEZONE
BEGIN:VEVENT
ORGANIZER:MAILTO:office@muk.ac.at
UID:bc812c9b-3956-4d17-88de-5e2d152ddc5b
DTSTAMP:20070123T150000Z
DTSTART;TZID="W. Europe Standard Time":20070123T150000
DTEND;TZID="W. Europe Standard Time":20070123T150000
LOCATION:Konservatorium Wien Privatuniversität, Raum 3.08
TRANSP:OPAQUE
SUMMARY:Orgelseminar
DESCRIPTION:Orgelseminar im Wintersemester 2006/07:(jeweils Dienstag)
26.09. 18:00  Singerstraße 26, Seminarraum                     Video-Präsentation Orgelstudienfahrt Juli 2006                     Von Thüringen nach Sachsen - historische Orgeln des Barock                     und der Romantik03.10. 15:00  Kirche St. Augustin: Workshop Zungenstimmen10.10. 15:00  Zi 3.08: Französisches Barock: Einführung, Komponisten, Formen17.10. 15:00  Zi 3.08: Französisches Barock: Inégalité, Fingersätze,                     Verzierungen24.10. 15:00  Zi 3.08: Französisches Barock: Satzmuster, Registrierungen07.11. 15:00  St. Augustin: workshop Französisches Barock14.11. 15:00  Zi 3.08: Marcel Dupré: Leben und Werk 121.11. 15:00  Zi 3.08: Marcel Dupré: Leben und Werk 228.11. 16:00  St. Augustin: master class (Bach, Dupré)05.12. 15:00  Zi 3.08: Legatospiel bis Bach12.12. 15:00  Zi 3.08: Bach: Schübler-Choräle19.12. 15:00  Kirche St. Augustin: Masterclass (Bach)09.01. 15:00  Kirche St. Augustin: Masterclass (Bach, Franck, Messiaen)16.01. 15:00  Zi 3.08: Sweelinck: Leben und Werk23.01. 15:00  Zi 3.08: Sweelinck: Verzierungen, Registrierungen
Orgelmeditationen:(jeweils Freitag)
01.12. 18:15  Kirche St. Augustin: Orgelmeditation Aydan Alakbarova                    Werke von Johann Sebastian Bach, Max Reger 22.12. 18:15  Kirche St. Augustin: Orgelmeditation Hyun-Ah Park                    Werke von Johann Sebastian Bach, Max Reger 
PRIORITY:5
CLASS:PUBLIC
BEGIN:VALARM
TRIGGER:-PT15M
ACTION:DISPLAY
DESCRIPTION:Reminder
END:VALARM
END:VEVENT
END:VCALENDAR
