BEGIN:VCALENDAR
VERSION:2.0
PRODID:-//TYPO3/NONSGML MUK Events//EN
METHOD:PUBLISH
BEGIN:VTIMEZONE
TZID:W. Europe Standard Time
BEGIN:STANDARD
TZNAME:W. Europe Standard Time
DTSTART:20080523T181500
TZOFFSETFROM:+0200
TZOFFSETTO:+0100
RRULE:FREQ=YEARLY;BYDAY=-1SU;BYMONTH=10
END:STANDARD
BEGIN:DAYLIGHT
TZNAME:W. Europe Standard Time
DTSTART:16010101T020000
TZOFFSETFROM:+0100
TZOFFSETTO:+0200
RRULE:FREQ=YEARLY;BYDAY=-1SU;BYMONTH=3
END:DAYLIGHT
END:VTIMEZONE
BEGIN:VEVENT
ORGANIZER:MAILTO:office@muk.ac.at
UID:bc812c9b-3956-4d17-88de-5e2d152ddc5b
DTSTAMP:20080523T181500Z
DTSTART;TZID="W. Europe Standard Time":20080523T181500
DTEND;TZID="W. Europe Standard Time":20080523T181500
LOCATION:Kirche St. Augustin
TRANSP:OPAQUE
SUMMARY:Orgelmeditation
DESCRIPTION:Orgelmeditationen im Sommersemester 2008
Fr, 7. 3., 18:15 
Johann Sebastian Bach (1685-1750) Fantasie und Fuge g-moll BWV 542Vor der Predigt: Herr Jesu Christ, dich zu uns wend BWV 655
Franz Liszt (1811-1886)Fantasie und Fuge über BACH
Hyun-Ah Park, Orgel
Fr, 14. 3., 18:15 
Johann Sebastian BachPräludium und Fuge c-moll BWV 546Passion: O Mensch bewein dein Sünde groß BWV 622
Louis Vierne (1870-1937)Finale aus der 3. Symphonie fis-moll
Aydan Alakbarova, Orgel
Fr, 2. 5., 18:15 
Jean-François Dandrieu (1682-1738)Magnificat in A
Johann Sebastian Bach Vor der Predigt: Liebster Jesu, wir sind hier BWV 633 Präludium und Fuge G-Dur BWV 541
Zuzana Reibach, Orgel
Fr, 9. 5., 18:15 
César Franck (1822-1890)2. Choral h-mollImprovisation über Ave maris stella
Maurice Duruflé (1902-1986)Prélude et Fugue sur le nom d Alain op. 7
Hyun-Ah Park, Orgel
Fr, 23. 5., 18:15 
Heinrich Scheidemann (ca. 1596-1663)Magnificat Improvisation über Salve regina
Johann Sebastian Bach Präludium und Fuge G-Dur BWV 550
Aydan Alakbarova, Orgel
PRIORITY:5
CLASS:PUBLIC
BEGIN:VALARM
TRIGGER:-PT15M
ACTION:DISPLAY
DESCRIPTION:Reminder
END:VALARM
END:VEVENT
END:VCALENDAR
