BEGIN:VCALENDAR
VERSION:2.0
PRODID:-//TYPO3/NONSGML MUK Events//EN
METHOD:PUBLISH
BEGIN:VTIMEZONE
TZID:W. Europe Standard Time
BEGIN:STANDARD
TZNAME:W. Europe Standard Time
DTSTART:20070309T181500
TZOFFSETFROM:+0200
TZOFFSETTO:+0100
RRULE:FREQ=YEARLY;BYDAY=-1SU;BYMONTH=10
END:STANDARD
BEGIN:DAYLIGHT
TZNAME:W. Europe Standard Time
DTSTART:16010101T020000
TZOFFSETFROM:+0100
TZOFFSETTO:+0200
RRULE:FREQ=YEARLY;BYDAY=-1SU;BYMONTH=3
END:DAYLIGHT
END:VTIMEZONE
BEGIN:VEVENT
ORGANIZER:MAILTO:office@muk.ac.at
UID:bc812c9b-3956-4d17-88de-5e2d152ddc5b
DTSTAMP:20070309T181500Z
DTSTART;TZID="W. Europe Standard Time":20070309T181500
DTEND;TZID="W. Europe Standard Time":20070309T181500
LOCATION:Kirche St. Augustin
TRANSP:OPAQUE
SUMMARY:Orgelmeditation
DESCRIPTION:Aart de Kort (*1962): Triptychon zur Fastenzeit (I - "Jésus, au nom saint et doux" / II - "Herzliebster Jesu, was hast Du verbrochen" / III - "O Traurigkeit, o Herzeleid")
Johann Sebastian Bach (1685-1750): „An Wasserflüssen Babylon“, con pedale doppio, BWV 653a / Präludium und Fuge a-Moll, BWV 543
Jens Jamin, Orgel

PRIORITY:5
CLASS:PUBLIC
BEGIN:VALARM
TRIGGER:-PT15M
ACTION:DISPLAY
DESCRIPTION:Reminder
END:VALARM
END:VEVENT
END:VCALENDAR
