BEGIN:VCALENDAR
VERSION:2.0
PRODID:-//TYPO3/NONSGML MUK Events//EN
METHOD:PUBLISH
BEGIN:VTIMEZONE
TZID:W. Europe Standard Time
BEGIN:STANDARD
TZNAME:W. Europe Standard Time
DTSTART:20060202T183000
TZOFFSETFROM:+0200
TZOFFSETTO:+0100
RRULE:FREQ=YEARLY;BYDAY=-1SU;BYMONTH=10
END:STANDARD
BEGIN:DAYLIGHT
TZNAME:W. Europe Standard Time
DTSTART:16010101T020000
TZOFFSETFROM:+0100
TZOFFSETTO:+0200
RRULE:FREQ=YEARLY;BYDAY=-1SU;BYMONTH=3
END:DAYLIGHT
END:VTIMEZONE
BEGIN:VEVENT
ORGANIZER:MAILTO:office@muk.ac.at
UID:bc812c9b-3956-4d17-88de-5e2d152ddc5b
DTSTAMP:20060202T183000Z
DTSTART;TZID="W. Europe Standard Time":20060202T183000
DTEND;TZID="W. Europe Standard Time":20060202T183000
LOCATION:Konservatorium Wien Privatuniversität, Singerstraße Raum 1
TRANSP:OPAQUE
SUMMARY:Opernfragmente
DESCRIPTION:Werke von Georges Bizet, Friedrich von Flotow, Wolfgang Amadeus Mozart, Otto Nicolai, Giacomo Puccini, Gioacchino Rossini, Pablo Sorozabal, Igor Strawinsky, Carl Maria von Weber
Inszenierung: Michael Pinkerton, Elfriede Burgsthaler-Gubitzer (Freischütz, Martha)Klavier: Christian Pollack, Andreas Rentsch, Michaela WangRegieassistenz und Produktionsleitung: Elfriede Burgsthaler-Gubitzer  Licht: Barbara „Dulcinea“ Jan
PRIORITY:5
CLASS:PUBLIC
BEGIN:VALARM
TRIGGER:-PT15M
ACTION:DISPLAY
DESCRIPTION:Reminder
END:VALARM
END:VEVENT
END:VCALENDAR
