BEGIN:VCALENDAR
VERSION:2.0
PRODID:-//TYPO3/NONSGML MUK Events//EN
METHOD:PUBLISH
BEGIN:VTIMEZONE
TZID:W. Europe Standard Time
BEGIN:STANDARD
TZNAME:W. Europe Standard Time
DTSTART:20070317T110000
TZOFFSETFROM:+0200
TZOFFSETTO:+0100
RRULE:FREQ=YEARLY;BYDAY=-1SU;BYMONTH=10
END:STANDARD
BEGIN:DAYLIGHT
TZNAME:W. Europe Standard Time
DTSTART:16010101T020000
TZOFFSETFROM:+0100
TZOFFSETTO:+0200
RRULE:FREQ=YEARLY;BYDAY=-1SU;BYMONTH=3
END:DAYLIGHT
END:VTIMEZONE
BEGIN:VEVENT
ORGANIZER:MAILTO:office@muk.ac.at
UID:bc812c9b-3956-4d17-88de-5e2d152ddc5b
DTSTAMP:20070317T110000Z
DTSTART;TZID="W. Europe Standard Time":20070317T110000
DTEND;TZID="W. Europe Standard Time":20070317T110000
LOCATION:Musik und Kunst Privatuniversität der Stadt Wien, Konzertsaal
TRANSP:OPAQUE
SUMMARY:Olaf Van Gonnissen - Workshop Gitarre
DESCRIPTION:11-13 Uhr: Vortrag und Diskussion: Übertragung idiomatischer Klangästhetik und geläufiger Manieren der Barockgitarre auf moderne Instrumente
14.30-17.30 Workshop UnterrichtVortrag und Workshop beschäftigen sich mit der Problematik vor der die GitarristInnen mit ihren modernen Instrumenten stehen. Wieweit kann man sich mit dem modernen Instrument der Spieltechnik, den Manieren und dem Klangbild von damals annähern? Welche Kompromisse muss man dabei eingehen? Soll man diese überhaupt eingehen? Im Spannungsfeld vieler offener Fragen ermöglicht die Veranstaltung mit Olaf van Gonnissen einige Antworten und bietet Anregungen für eine persönliche Herangehensweise an die Problematik.
Der in Tiengen/Oberrhein geborene Olaf Van Gonnissen erhielt bereits im Alter von vier Jahren Violinunterricht und wechselte mit acht Jahren zur Gitarre. Von 1970 bis 1975 studierte er als Stipendiat der Deutschen Studienstiftung an der Hochschule für Musik und Darstellende Kunst in Frankfurt am Main Gitarre bei Prof. Heinz Teuchert. Bekannt wurde er durch seine Konzerttätigkeit im Duo mit Michael Teuchert. Das Frankfurter Gitarrenduo wurde bereits während des Studiums gegründet; es bereiste seit den siebziger Jahren die ganze Welt und war Gast vieler Rundfunkanstalten. 
Olaf Van Gonnissen begann sein pädagogisches Wirken 1974 mit einem Lehrauftrag an der Akademie für Tonkunst in Darmstadt. Seit 1977 ist er auch an der Hochschule für Musik und Darstellende Kunst in Frankfurt am Main tätig und seit 1999 Professor an der Hochschule für Musik und Theater in Hamburg. Seit 1992 ist er Mitglied des Mutare Ensemble Frankfurt und seit 2003 des World Guitar Ensemble. Darüber hinaus tritt er in verschiedenen kammermusikalischen Besetzungen auf: u. a. mit Friederike Richter (Klavier), Rosemarie Fendel (Stimme), Christoph von Erffa (Violoncello), Gerhart Darmstadt (Arrpeggione), Klaus Hempel und Johannes Monno (Gitarren). 
Sein besonderes Interesse gilt der Aufführungspraxis Alter Musik. Das Repertoire seiner Solokonzerte absolviert er auch auf historischen Instrumenten, wie Laute, Vihuela und Barockgitarre. 
PRIORITY:5
CLASS:PUBLIC
BEGIN:VALARM
TRIGGER:-PT15M
ACTION:DISPLAY
DESCRIPTION:Reminder
END:VALARM
END:VEVENT
END:VCALENDAR
