BEGIN:VCALENDAR
VERSION:2.0
PRODID:-//TYPO3/NONSGML MUK Events//EN
METHOD:PUBLISH
BEGIN:VTIMEZONE
TZID:W. Europe Standard Time
BEGIN:STANDARD
TZNAME:W. Europe Standard Time
DTSTART:20231130T100000
TZOFFSETFROM:+0200
TZOFFSETTO:+0100
RRULE:FREQ=YEARLY;BYDAY=-1SU;BYMONTH=10
END:STANDARD
BEGIN:DAYLIGHT
TZNAME:W. Europe Standard Time
DTSTART:16010101T020000
TZOFFSETFROM:+0100
TZOFFSETTO:+0200
RRULE:FREQ=YEARLY;BYDAY=-1SU;BYMONTH=3
END:DAYLIGHT
END:VTIMEZONE
BEGIN:VEVENT
ORGANIZER:MAILTO:office@muk.ac.at
UID:bc812c9b-3956-4d17-88de-5e2d152ddc5b
DTSTAMP:20231130T100000Z
DTSTART;TZID="W. Europe Standard Time":20231130T100000
DTEND;TZID="W. Europe Standard Time":20231130T180000
LOCATION:Vivaldi-Saal im ÖJAB-Haus
TRANSP:OPAQUE
SUMMARY:Masterclass Saxophon mit Kenta Saito
DESCRIPTION:Kenta Saito
Born in 1992 in the Adachi ward, Tokyo, Kenta Saito graduated from the Senzoku Gakuen College of Music receiving an award for excellence, before completing the special graduate course at the Tokyo University of the Arts. He studied saxophone under Hiromitsu Kanai, Kazuhiro Ninomiya, Nobuya Sugawa, Masato Ikegami and Hirokazu Hayashida as well as chamber music under Masato Ikegami and Sumichika Arimura. He was also trained by jazz saxophonists Tatsuya Sato and MALTA.
Saito was the recipient of the third prize at the 31st and 34th Japan Wind and Percussion Competition (saxophone division). He was selected to be a jury-recommended artist when he gained the grand prize at the 27th Omagari Newcomer Music Festival Competition (wind instruments division) organized by the city of Daisen, Akita, Japan. He was also the second prize winner at the 9th International Saxophone Competition held in Nova Gorica, Slovenia.
In 2019, Saito won the first prize at the Adolphe Sax International Saxophone Competition held in Belgium, receiving as well the award for the best performance of a new work, to become the first Japanese winner in seventeen years of this most prestigious competition in the saxophone world. To celebrate his brilliant success, a gala concert was held at the Bunkyo Civic Hall, Tokyo, in January 2020.
Currently an adjunct lecturer at the Senzoku Gakuen College of Music and a member of the saxophone quintet “Five by Five”, Saito also serves as a concertmaster of the Blitz Philharmonic winds based in Tokyo.
PRIORITY:5
CLASS:PUBLIC
BEGIN:VALARM
TRIGGER:-PT15M
ACTION:DISPLAY
DESCRIPTION:Reminder
END:VALARM
END:VEVENT
END:VCALENDAR
