BEGIN:VCALENDAR
VERSION:2.0
PRODID:-//TYPO3/NONSGML MUK Events//EN
METHOD:PUBLISH
BEGIN:VTIMEZONE
TZID:W. Europe Standard Time
BEGIN:STANDARD
TZNAME:W. Europe Standard Time
DTSTART:20070307T000000
TZOFFSETFROM:+0200
TZOFFSETTO:+0100
RRULE:FREQ=YEARLY;BYDAY=-1SU;BYMONTH=10
END:STANDARD
BEGIN:DAYLIGHT
TZNAME:W. Europe Standard Time
DTSTART:16010101T020000
TZOFFSETFROM:+0100
TZOFFSETTO:+0200
RRULE:FREQ=YEARLY;BYDAY=-1SU;BYMONTH=3
END:DAYLIGHT
END:VTIMEZONE
BEGIN:VEVENT
ORGANIZER:MAILTO:office@muk.ac.at
UID:bc812c9b-3956-4d17-88de-5e2d152ddc5b
DTSTAMP:20070307T000000Z
DTSTART;TZID="W. Europe Standard Time":20070307T000000
DTEND;TZID="W. Europe Standard Time":20070309T000000
LOCATION:Konservatorium Wien Privatuniversität, Verschiedene Säle
TRANSP:OPAQUE
SUMMARY:Massimiliano Donninelli - Meisterklasse Saxophon
DESCRIPTION:Der Komponist und Dirigent Massimiliano Donninelli lehrt Saxophon am Conservatorio di Musica Giuseppe Tartini in Triest. Die Konservatorium Wien Privatuniversität freut sich, dass der Künstler als Austauschlehrer des Erasmus-Programmes von 7. bis 9. März 2007 nach Wien kommt. Der 36-Jährige lernte Saxophon bereits mit sieben Jahren und 1991 schloss sein Studium am Conservatoire in Pesaro ab. Er ist seit dem in internationalen Produktionen als Dirigent, Komponist oder Saxophonist zu erleben. 
Weitere Infos zu Massimiliano Donninelli finden Sie unter www.massimilianodonninelli.com  
 Zeitplan:
7. 3. 16-19.45Singerstraße-Konzertsaal, Singerstraße 26 8. 3. 14-17Anton-Dermota-Saal, Johannesgasse 4a 9. 3. Anton-Dermota-Saal, Johannesgasse 4a10-12.1513-14.30
alle 1010 Wien
PRIORITY:5
CLASS:PUBLIC
BEGIN:VALARM
TRIGGER:-PT15M
ACTION:DISPLAY
DESCRIPTION:Reminder
END:VALARM
END:VEVENT
END:VCALENDAR
