BEGIN:VCALENDAR
VERSION:2.0
PRODID:-//TYPO3/NONSGML MUK Events//EN
METHOD:PUBLISH
BEGIN:VTIMEZONE
TZID:W. Europe Standard Time
BEGIN:STANDARD
TZNAME:W. Europe Standard Time
DTSTART:20080112T100000
TZOFFSETFROM:+0200
TZOFFSETTO:+0100
RRULE:FREQ=YEARLY;BYDAY=-1SU;BYMONTH=10
END:STANDARD
BEGIN:DAYLIGHT
TZNAME:W. Europe Standard Time
DTSTART:16010101T020000
TZOFFSETFROM:+0100
TZOFFSETTO:+0200
RRULE:FREQ=YEARLY;BYDAY=-1SU;BYMONTH=3
END:DAYLIGHT
END:VTIMEZONE
BEGIN:VEVENT
ORGANIZER:MAILTO:office@muk.ac.at
UID:bc812c9b-3956-4d17-88de-5e2d152ddc5b
DTSTAMP:20080112T100000Z
DTSTART;TZID="W. Europe Standard Time":20080112T100000
DTEND;TZID="W. Europe Standard Time":20080112T100000
LOCATION:Konservatorium Wien Privatuniversität, Seminarraum Singerstraße
TRANSP:OPAQUE
SUMMARY:Le Fortune de Rodope e Damira
DESCRIPTION:Eine 1657 uraufgeführte venezianische Oper von Pietro Andrea Ziani nach einem Libretto von Aurelio Aureli.
Seminar mit Eugène MichelangeliDauer: 10.00-13.00 Seminar Teil I13.00-14.00 Mittagspause14.00-17.00 Seminar Teil II
MitwirkendeSoetkin Elbers, SopranKatharina Stummer, SopranArmin Gramer, AltAndreas Mittermayr, Bariton Fani Vovoni, BarockviolineKatja Katanova, BarockviolineKarin Heinzl, BarockcelloAnne-Marie Dragosits, Cembalo Nach ihrer Geburt als höfische Unterhaltung um 1600 entwickelt sich die Oper in der ersten Hälfte des 17. Jh. in Venedig als kommerzielles Unternehmen weiter. 1637 wird dort zum ersten Mal eine Oper vor zahlendem Publikum aufgeführt und somit der Grundstein gelegt für ein Geschäft, das in den nächsten Jahrzehnten unglaublich aufblühen wird. In diesem Kontext entsteht eine neue Form des Dramma per Musica welche die Opernwelt bis zum Ende des Jahrhunderts dominieren und sogar das Folgende noch stark beeinflussen wird.Nach einer Schilderung der Entstehung dieses Genres werden wir die Oper Le Fortune di Rodope e Damira vorstellen. 1657 im Teatro S Apollinare uraufgeführt, bildet dieses Stück ein perfektes Beispiel einer venezianischen Produktion dieser Zeit.Dank der freundlichen Mitwirkung von Sängern und Instrumentalisten werden der Prolog sowie ausgewählte Szenen aus dieser Oper erstmals wieder erklingen dürfen und als lebendige musikalische Beispiele diesen Vortrag illustrieren. 
PRIORITY:5
CLASS:PUBLIC
BEGIN:VALARM
TRIGGER:-PT15M
ACTION:DISPLAY
DESCRIPTION:Reminder
END:VALARM
END:VEVENT
END:VCALENDAR
