BEGIN:VCALENDAR
VERSION:2.0
PRODID:-//TYPO3/NONSGML MUK Events//EN
METHOD:PUBLISH
BEGIN:VTIMEZONE
TZID:W. Europe Standard Time
BEGIN:STANDARD
TZNAME:W. Europe Standard Time
DTSTART:20071220T193000
TZOFFSETFROM:+0200
TZOFFSETTO:+0100
RRULE:FREQ=YEARLY;BYDAY=-1SU;BYMONTH=10
END:STANDARD
BEGIN:DAYLIGHT
TZNAME:W. Europe Standard Time
DTSTART:16010101T020000
TZOFFSETFROM:+0100
TZOFFSETTO:+0200
RRULE:FREQ=YEARLY;BYDAY=-1SU;BYMONTH=3
END:DAYLIGHT
END:VTIMEZONE
BEGIN:VEVENT
ORGANIZER:MAILTO:office@muk.ac.at
UID:bc812c9b-3956-4d17-88de-5e2d152ddc5b
DTSTAMP:20071220T193000Z
DTSTART;TZID="W. Europe Standard Time":20071220T193000
DTEND;TZID="W. Europe Standard Time":20071220T193000
LOCATION:Musik und Kunst Privatuniversität der Stadt Wien, MUK.theater
TRANSP:OPAQUE
SUMMARY:Konzert des Kammerchors
DESCRIPTION:Anton Bruckner: Motetten Os Justi (1879), Christus factus est (1884)Guido Mancusi: Missa Solemnis in honorem Sancti Ignatii de Loyola
Mara Mastalir, Sopran; Nina Tarandek, Alt; Sebastian Hupmann, BaritonLeitung: Guido Mancusi, Karsten Januschke
Der Kammerchor widmet sich auch dieses Jahr wieder der zeitgenössischen Musik und wird ein vor zwei Jahren uraufgeführes Werk des an der KWU lehrenden Komponisten Guido Mancusi zur Aufführung bringen. Diese dem Gründer des Jesuitenordens Ignatius von Loyola gewidmete Messe erzählt die Entwicklung des Ordens von den Anfängen im Mittelalter bis zu den Aufgaben, denen sich die Jesuiten heute widmen. Dieses Mal wird auch ein Absolvent der Chorleitungsklasse von Guido Mancusi, Karsten Januschke, sein Können unter Beweis stellen. Er wird Bruckners bekannte Motetten leiten.
PRIORITY:5
CLASS:PUBLIC
BEGIN:VALARM
TRIGGER:-PT15M
ACTION:DISPLAY
DESCRIPTION:Reminder
END:VALARM
END:VEVENT
END:VCALENDAR
