BEGIN:VCALENDAR
VERSION:2.0
PRODID:-//TYPO3/NONSGML MUK Events//EN
METHOD:PUBLISH
BEGIN:VTIMEZONE
TZID:W. Europe Standard Time
BEGIN:STANDARD
TZNAME:W. Europe Standard Time
DTSTART:20101217T203000
TZOFFSETFROM:+0200
TZOFFSETTO:+0100
RRULE:FREQ=YEARLY;BYDAY=-1SU;BYMONTH=10
END:STANDARD
BEGIN:DAYLIGHT
TZNAME:W. Europe Standard Time
DTSTART:16010101T020000
TZOFFSETFROM:+0100
TZOFFSETTO:+0200
RRULE:FREQ=YEARLY;BYDAY=-1SU;BYMONTH=3
END:DAYLIGHT
END:VTIMEZONE
BEGIN:VEVENT
ORGANIZER:MAILTO:office@muk.ac.at
UID:bc812c9b-3956-4d17-88de-5e2d152ddc5b
DTSTAMP:20101217T203000Z
DTSTART;TZID="W. Europe Standard Time":20101217T203000
DTEND;TZID="W. Europe Standard Time":20101217T203000
LOCATION:Porgy &amp; Bess
TRANSP:OPAQUE
SUMMARY:kons.wien.jazzorchestra conducted by Jim McNeely
DESCRIPTION:Paul Klee, Suite for Jazz Orchestra by Jim McNeely
Das kons.wien.jazzorchestra, die Haupt Big Band der Konservatorium Wien Privatuniversität wird das Programm Paul Klee von und mit Jim McNeely im Music & Jazz Club Porgy & Bess zur Aufführung bringen. Der bekannte amerikanische Komponist hat inspiriert von acht Bildern des Schweizer Malers Paul Klee ein vielfältiges, abendfüllendes Programm geschrieben, das im März 2006 im Zentrum Paul Klee vom Swiss Jazz Orchestra uraufgeführt wurde und anschließend während einer kleinen Tournee durch die Schweiz für begeisterte Reaktionen sorgte.
Die Klangfarben der einzelnen Bilder, ob luftig und hell wie in Der Seiltänzer, zärtlich versponnen in Rosenwind, fröhlich frech in Übermut, liebevoll in Büste eines Kindes, düster und drückend, doch immer noch Hoffnung vermittelnd in Tod und Feuer oder beinahe onomatopoetisch wie im Paukenspieler vermitteln sensible Impressionen der Chiffren Klees.
Mit:Jim McNeely, composer, conductorkons.wien.jazzorchestra:Markus Pechmann, Dominik Fuss, Daniel Nösig, Lukas Hartl, trumpets;Clemens Hofer, Georg Schrattenholzer, Paul Schreitl, Andreas Humpel, trombones;Ben Daxbacher, Philipp Gruber, Julian Loibl, Sebastian Zillner, Gregor Gassner, saxophones;Daniel Hofstätter, Max Tschida, Dominik Beyer, piano;Judith Ferstl, Sebastian Küberl, bass;Mario Stübler, Thomas Gindl, drums
Heute gehört Jim McNeely neben Bob Brookmeyer und Maria Schneider zu den herausragenden Komponisten und Arrangeuren des Jazz. Er hat für die größten Jazz Orchester der Welt gearbeitet, darunter das Vanguard Jazz Orchestra, die Big Band des Dänischen Radios und die WDR Big Band. Sein einmaliges kompositorisches Talent wird von den Musikern und Kennern des modernen Jazz in den höchsten Tönen gelobt. Ein Beweis dafür ist seine mehrjährige Leitung des angesehenen „BMI Composers Workshop“ in New York.
PRIORITY:5
CLASS:PUBLIC
BEGIN:VALARM
TRIGGER:-PT15M
ACTION:DISPLAY
DESCRIPTION:Reminder
END:VALARM
END:VEVENT
END:VCALENDAR
