BEGIN:VCALENDAR
VERSION:2.0
PRODID:-//TYPO3/NONSGML MUK Events//EN
METHOD:PUBLISH
BEGIN:VTIMEZONE
TZID:W. Europe Standard Time
BEGIN:STANDARD
TZNAME:W. Europe Standard Time
DTSTART:20080519T100000
TZOFFSETFROM:+0200
TZOFFSETTO:+0100
RRULE:FREQ=YEARLY;BYDAY=-1SU;BYMONTH=10
END:STANDARD
BEGIN:DAYLIGHT
TZNAME:W. Europe Standard Time
DTSTART:16010101T020000
TZOFFSETFROM:+0100
TZOFFSETTO:+0200
RRULE:FREQ=YEARLY;BYDAY=-1SU;BYMONTH=3
END:DAYLIGHT
END:VTIMEZONE
BEGIN:VEVENT
ORGANIZER:MAILTO:office@muk.ac.at
UID:bc812c9b-3956-4d17-88de-5e2d152ddc5b
DTSTAMP:20080519T100000Z
DTSTART;TZID="W. Europe Standard Time":20080519T100000
DTEND;TZID="W. Europe Standard Time":20080521T170000
LOCATION:Konservatorium Wien Privatuniversität, Verschiedene Säle
TRANSP:OPAQUE
SUMMARY:Karl Leister - Meisterklasse Klarinette
DESCRIPTION:Karl Leister, der Doyen der Klarinette in Deutschland, konnte für eine dreitägige Meisterklasse an der Konservatorium Wien Privatuniversität gewonnen werden.
Zeitplan:19. 5. 10-13 Erkersaal15-18 Konzertsaal Singerstraße
20. 5.10-13 Erkersaal14.30-17.00 Anton-Dermota-Saal
21. 5.10-13 Erkersaal14.30-17.00 Anton-Dermota-SaalKarl Leister wurde in Wilhelmshaven geboren. Den ersten Unterricht erhielt er von seinem Vater, der als Klarinettist Mitglied des Rias-Symphonie-Orchesters war. Von 1953-1956 studierte er an der Hochschule für Musik in Berlin und wurde 1957 im Alter von 19 Jahren Solo-Klarinettist an der Komischen Oper Berlin unter Vaclav Neumann und Walter Felsenstein. 
1959 begann seine Tätigkeit als Solo-Klarinettist im Berliner Philharmonischen Orchester unter Herbert von Karajan. Die 30 Jahre des "gemeinsamen Wanderns" mit Karajan war die wichtigste und prägendste Zeit für Karl Leister. Zugleich begann auch seine internationale Karriere als Solist und Kammermusiker. Seine Kammermusikpartner waren u.a. das Amadeus-Quartett, Vermeer-Quartett, Leipziger Streichquartett, Artis-Quartett, Vogler-Quartett, Wilhelm Kempf, Pierre Fournier, Gidon Kremer, Rita Streich, Kathleen Battle sowie als Pianisten, James Levine, Ricardo Muti, Gerhard Oppitz, Christoph Eschenbach, Bruno Canino, Elena Bashkirova, Elisabeth Leonskaja, Paul Gulda, Stefan Vladar und Ferenc Bognar. Weiterhin spielte er als Solist unter der Leitung von Herbert von Karajan, Karl Böhm, Seiji Ozawa, Eugen Jochum, Raphael Kubelik, Aron Copland, Sir Neville Merriner, Paavo Berglund, R. Frühbeck de Bourgos, Kent Nagano u.a. 
Karl Leister ist Mitbegründer der Bläser der Berliner Philharmoniker, Berliner Solisten und des Ensemble Wien-Berlin. 
Seit Gründung der Herbert-von-Karajan-Akademie des Berliner Philharmonischen Orchesters hat Karl Leister den Nachwuchs unterrichtet, und viele seiner ehemaligen Studenten sind heute in bedeutenden Positionen in deutschen und internationalen Orchestern tätig. Gleichzeitig ist er bei internationalen Festivals und Meisterkursen gefragt. 
Karl Leister erhielt zahlreiche Preise und Auszeichnungen bei nationalen und internationalen Musikwettbewerben. Darüber hinaus hat er nahezu alle Werke der Klarinettenliteratur bei folgenden Labels eingespielt: DGG, EMI, Philips, Teldec/Warner, Orfeo, D+G, BIS, Nimbus, Sony, Camerata Tokyo u.a.
1987 wurde er Ehrenmitglied und Gastprofessor an der Royal Academy of Music London. Von 1993 bis 2002 war Karl Leister Professor an der Hochschule für Musik Berlin Hanns Eisler.
PRIORITY:5
CLASS:PUBLIC
BEGIN:VALARM
TRIGGER:-PT15M
ACTION:DISPLAY
DESCRIPTION:Reminder
END:VALARM
END:VEVENT
END:VCALENDAR
