BEGIN:VCALENDAR
VERSION:2.0
PRODID:-//TYPO3/NONSGML MUK Events//EN
METHOD:PUBLISH
BEGIN:VTIMEZONE
TZID:W. Europe Standard Time
BEGIN:STANDARD
TZNAME:W. Europe Standard Time
DTSTART:20060213T000000
TZOFFSETFROM:+0200
TZOFFSETTO:+0100
RRULE:FREQ=YEARLY;BYDAY=-1SU;BYMONTH=10
END:STANDARD
BEGIN:DAYLIGHT
TZNAME:W. Europe Standard Time
DTSTART:16010101T020000
TZOFFSETFROM:+0100
TZOFFSETTO:+0200
RRULE:FREQ=YEARLY;BYDAY=-1SU;BYMONTH=3
END:DAYLIGHT
END:VTIMEZONE
BEGIN:VEVENT
ORGANIZER:MAILTO:office@muk.ac.at
UID:bc812c9b-3956-4d17-88de-5e2d152ddc5b
DTSTAMP:20060213T000000Z
DTSTART;TZID="W. Europe Standard Time":20060213T000000
DTEND;TZID="W. Europe Standard Time":20060218T000000
LOCATION:Konservatorium Wien Privatuniversität, Verschiedene Säle
TRANSP:OPAQUE
SUMMARY:Kammermusikwoche
DESCRIPTION:Die Idee, eine Kammermusikwoche zu organisieren, erwuchs aus dem Wunsch, den Stellenwert der Kammermusik an der Konservatorium Wien Privatuniversität vom Status eines bloß zu absolvierenden Ergänzungsfachs zu lösen. Vielmehr gilt es, die Kammermusik als integrativen Teil der instrumentalen Ausbildung zu etablieren. Die von der Abteilung Saiteninstrumente initiierte Kammermusikwoche bietet eine Art Experimentierfeld, in denen Studierende verschiedener Abteilungen sich dieser Gattung gemeinsam, auch in größeren Besetzungen – in Septetten oder Oktetten -  widmen können. Im Rahmen von Workshops und Seminaren erfahrener Kammermusikexperten sowie von Vorlesungen und Referaten besteht die Möglichkeit, sich mit besonders faszinierenden Kapiteln der Kammermusik-Geschichte (zum Beispiel mit Mozarts Violinsonaten und Klavierquartetten, mit Schostakowitsch oder mit Toru Takemitsu) praktisch und wissenschaftlich auseinanderzusetzen. Hier können Sie den Detailzeitplan der Kammermusikwoche downloaden. 
PRIORITY:5
CLASS:PUBLIC
BEGIN:VALARM
TRIGGER:-PT15M
ACTION:DISPLAY
DESCRIPTION:Reminder
END:VALARM
END:VEVENT
END:VCALENDAR
