BEGIN:VCALENDAR
VERSION:2.0
PRODID:-//TYPO3/NONSGML MUK Events//EN
METHOD:PUBLISH
BEGIN:VTIMEZONE
TZID:W. Europe Standard Time
BEGIN:STANDARD
TZNAME:W. Europe Standard Time
DTSTART:20080506T200000
TZOFFSETFROM:+0200
TZOFFSETTO:+0100
RRULE:FREQ=YEARLY;BYDAY=-1SU;BYMONTH=10
END:STANDARD
BEGIN:DAYLIGHT
TZNAME:W. Europe Standard Time
DTSTART:16010101T020000
TZOFFSETFROM:+0100
TZOFFSETTO:+0200
RRULE:FREQ=YEARLY;BYDAY=-1SU;BYMONTH=3
END:DAYLIGHT
END:VTIMEZONE
BEGIN:VEVENT
ORGANIZER:MAILTO:office@muk.ac.at
UID:bc812c9b-3956-4d17-88de-5e2d152ddc5b
DTSTAMP:20080506T200000Z
DTSTART;TZID="W. Europe Standard Time":20080506T200000
DTEND;TZID="W. Europe Standard Time":20080506T200000
LOCATION:Musikverein Wien, Gläserner Saal/Magna Auditorium
TRANSP:OPAQUE
SUMMARY:Kammermusik aus der Alten und Neuen Welt
DESCRIPTION:Unsere besten Saiten - Konzert der Abteilung Saiteninstrumente  
Programm:
Erich Wolfgang Korngold (1897-1957)Streichquartett Nr. 2 Es-Dur op. 26---Antonin Dvorak (1841-1904 )Streichquintett G-Dur op. 77Atlas Quartett Ioanna Apostolakos, ViolineBurghard Tölke, ViolineRaphael Handschuh, ViolaElizaveta Sharakhovskaya, VioloncelloAdam Rekucki, Kontrabass 
PRIORITY:5
CLASS:PUBLIC
BEGIN:VALARM
TRIGGER:-PT15M
ACTION:DISPLAY
DESCRIPTION:Reminder
END:VALARM
END:VEVENT
END:VCALENDAR
