BEGIN:VCALENDAR
VERSION:2.0
PRODID:-//TYPO3/NONSGML MUK Events//EN
METHOD:PUBLISH
BEGIN:VTIMEZONE
TZID:W. Europe Standard Time
BEGIN:STANDARD
TZNAME:W. Europe Standard Time
DTSTART:20101213T200000
TZOFFSETFROM:+0200
TZOFFSETTO:+0100
RRULE:FREQ=YEARLY;BYDAY=-1SU;BYMONTH=10
END:STANDARD
BEGIN:DAYLIGHT
TZNAME:W. Europe Standard Time
DTSTART:16010101T020000
TZOFFSETFROM:+0100
TZOFFSETTO:+0200
RRULE:FREQ=YEARLY;BYDAY=-1SU;BYMONTH=3
END:DAYLIGHT
END:VTIMEZONE
BEGIN:VEVENT
ORGANIZER:MAILTO:office@muk.ac.at
UID:bc812c9b-3956-4d17-88de-5e2d152ddc5b
DTSTAMP:20101213T200000Z
DTSTART;TZID="W. Europe Standard Time":20101213T200000
DTEND;TZID="W. Europe Standard Time":20101213T200000
LOCATION:Musik und Kunst Privatuniversität der Stadt Wien, Erkersaal
TRANSP:OPAQUE
SUMMARY:John Holloway - Vortrag
DESCRIPTION:Bach - An Ingenious Ghost Meisterklassen mit Barthold Kujiken, Christophe Coin und John Holloway. Solorepertoire von Johann Sebastian Bach.
Johann Sebastian Bachs (1685-1750) Solowerke sind auf alten wie auf modernen Instrumenten Meilensteine, mit denen jeder/jede Musiker/in in seiner künstlerischen Laufbahn in Berührung kommt. Die Abteilung Alte Musik der Konservatorium Wien Privatuniversität widmet sich diesem Thema im Rahmen einer besonders spannenden Reihe von Meisterkursen mit namhaften Künstlern aus dem Bereich der historisch informierten Aufführungspraxis.   John Holloway - Meisterklasse Barockvioline
Montag, 13. Dezember 2010 11-13.30 Uhr, 15-19 Uhr  20 Uhr: Vortrag: Bach - An Ingenious Ghost
Dienstag, 14. Dezember 2010 10.30-13 Uhr und 14.30-18.30 Uhrwww.johnholloway.org
PRIORITY:5
CLASS:PUBLIC
BEGIN:VALARM
TRIGGER:-PT15M
ACTION:DISPLAY
DESCRIPTION:Reminder
END:VALARM
END:VEVENT
END:VCALENDAR
