BEGIN:VCALENDAR
VERSION:2.0
PRODID:-//TYPO3/NONSGML MUK Events//EN
METHOD:PUBLISH
BEGIN:VTIMEZONE
TZID:W. Europe Standard Time
BEGIN:STANDARD
TZNAME:W. Europe Standard Time
DTSTART:20070421T090000
TZOFFSETFROM:+0200
TZOFFSETTO:+0100
RRULE:FREQ=YEARLY;BYDAY=-1SU;BYMONTH=10
END:STANDARD
BEGIN:DAYLIGHT
TZNAME:W. Europe Standard Time
DTSTART:16010101T020000
TZOFFSETFROM:+0100
TZOFFSETTO:+0200
RRULE:FREQ=YEARLY;BYDAY=-1SU;BYMONTH=3
END:DAYLIGHT
END:VTIMEZONE
BEGIN:VEVENT
ORGANIZER:MAILTO:office@muk.ac.at
UID:bc812c9b-3956-4d17-88de-5e2d152ddc5b
DTSTAMP:20070421T090000Z
DTSTART;TZID="W. Europe Standard Time":20070421T090000
DTEND;TZID="W. Europe Standard Time":20070422T183000
LOCATION:Konservatorium Wien Privatuniversität, Raum 4.13
TRANSP:OPAQUE
SUMMARY:Jan van der Roost - Dirigierworkshop
DESCRIPTION:Workshoptermine:Samstag, 21.4.2007, 9.00–18.30 Uhr, Anton-Dermota-SaalSonntag,  22.4.2007, 08.30–18.30 Uhr, Leonie-Rysanek-Saal
Kursliteratur: Adagio for winds – Balkanya – Orion – Spartacus
Kursorchester:Sinfonisches Jugendblasorchester Wien
Notenmaterial:Die Kurspartituren werden für die aktiven TeilnehmerInnen zur Verfügung gestellt.Nach Einzahlung der Kurskosten werden die Partituren zugeschickt.Aktive TeilnehmerInnen sollten zwei Stücke aus der Kursliteratur vorbereiten.
Kurskosten: Aktive TeilnehmerInnen: € 80,– (max. 10 TeilnehmerInnen)Passive TeilnehmerInnen: € 40,–Anmeldeschluss für aktive TeilnehmerInnen: 26.3.2007
Anmeldung: Herbert KlingerEmmy-Stradal-Straße 352020 HollabrunnTel.: 0664 / 2117278e-mail: klinger.h@aon.atJan Van der Roost wurde 1956 in Belgien geboren. Er studierte Posaune, Musikgeschichte und Musiklehre am Lemmens-Institut in Leuven (Louvain) und setzte seine Studien am Royal Conservatoire von Gent fort, wo er eine Ausbildung zum Dirigenten und Komponisten absolvierte. Gegenwärtig unterrichtet er am Lemmens-Institut in Leuven (Belgien) und hat eine Gastprofessur am Shobi Institute of Music in Tokio und an der Nagoya University of Arts (Japan) inne. Er ist nicht nur ein produktiver Komponist, sondern auch in zahlreichen Ländern der Welt als Jurymitglied, Lektor und Gastdirigent tätig. 2001 erschien bei EMI Classics eine CD mit Werken für Kammerorchester und 2003 wurden mehrere Kompositionen bei  Valve-Hearts mit dem Slowakischen Rundfunk- Sinfonieorchester eingespielt.
 
PRIORITY:5
CLASS:PUBLIC
BEGIN:VALARM
TRIGGER:-PT15M
ACTION:DISPLAY
DESCRIPTION:Reminder
END:VALARM
END:VEVENT
END:VCALENDAR
