BEGIN:VCALENDAR
VERSION:2.0
PRODID:-//TYPO3/NONSGML MUK Events//EN
METHOD:PUBLISH
BEGIN:VTIMEZONE
TZID:W. Europe Standard Time
BEGIN:STANDARD
TZNAME:W. Europe Standard Time
DTSTART:20070508T190000
TZOFFSETFROM:+0200
TZOFFSETTO:+0100
RRULE:FREQ=YEARLY;BYDAY=-1SU;BYMONTH=10
END:STANDARD
BEGIN:DAYLIGHT
TZNAME:W. Europe Standard Time
DTSTART:16010101T020000
TZOFFSETFROM:+0100
TZOFFSETTO:+0200
RRULE:FREQ=YEARLY;BYDAY=-1SU;BYMONTH=3
END:DAYLIGHT
END:VTIMEZONE
BEGIN:VEVENT
ORGANIZER:MAILTO:office@muk.ac.at
UID:bc812c9b-3956-4d17-88de-5e2d152ddc5b
DTSTAMP:20070508T190000Z
DTSTART;TZID="W. Europe Standard Time":20070508T190000
DTEND;TZID="W. Europe Standard Time":20070508T190000
LOCATION:Theater Akzent
TRANSP:OPAQUE
SUMMARY:Hoffmanns Erzählungen
DESCRIPTION:Phantastische Oper in drei Akten mit einem Vor- und Nachspielnach einem Schauspiel von Jules Barbier und Michel Carré Musik von Jacques Offenbach (in deutscher Sprache)
Produktion der Abteilung Gesang und Oper der Konservatorium Wien Privatuniversität.(Vorstand: Michael Pinkerton)
Musikalische Leitung: Christian PollackInszenierung: Michael PinkertonProduktionsleitung und Regieassistenz: Stefanie KopinitsBühnenbild: Friedrich KotrbaKostüme: Kostümhaus Wien, M. Lippitsch KEGKostümassistenz: Katja Ike, Susanne ÖzpinarMaske: Wilhelm GalliTechnische Einrichtung und Bühnenbildaufbau: Ernst Wilfinger, Stefan MichelfeitLicht: Barbara Dulci JanInspizienz: Thomas Aigner
Musikalische Einstudierung: Greta Benini, Klaus Busch, Andreas Rentsch, Klara Torbov, Michaela Wang, Margarita Vaiculenas-Piss (alle Lehrende an der KWPU), sowie Studenten der Dirigentenklasse Georg Mark: Bernhard Ehrenfellner, Andreas Fellner und Michael Zehetner 
Orchester der Abteilung Gesang und Oper der Konservatorium Wien, Privatuniversität
In Luthers Weinkeller erzählt der Dichter Hoffmann seinen Studentenfreunden drei Geschichten in denen er seine unglückliche Liebe zur Sängerin Stella verarbeitet. Von Olympia, der engelsgleichen, die sich als Automat entpuppt, von Antonia, die an ihrer großen Leidenschaft, dem Gesang stirbt und von Giulietta, der Kurtisane, die ihm sein Spiegelbild raubt: drei Variationen der immer gleichen Katastrophe.
PRIORITY:5
CLASS:PUBLIC
BEGIN:VALARM
TRIGGER:-PT15M
ACTION:DISPLAY
DESCRIPTION:Reminder
END:VALARM
END:VEVENT
END:VCALENDAR
