BEGIN:VCALENDAR
VERSION:2.0
PRODID:-//TYPO3/NONSGML MUK Events//EN
METHOD:PUBLISH
BEGIN:VTIMEZONE
TZID:W. Europe Standard Time
BEGIN:STANDARD
TZNAME:W. Europe Standard Time
DTSTART:20101124T150000
TZOFFSETFROM:+0200
TZOFFSETTO:+0100
RRULE:FREQ=YEARLY;BYDAY=-1SU;BYMONTH=10
END:STANDARD
BEGIN:DAYLIGHT
TZNAME:W. Europe Standard Time
DTSTART:16010101T020000
TZOFFSETFROM:+0100
TZOFFSETTO:+0200
RRULE:FREQ=YEARLY;BYDAY=-1SU;BYMONTH=3
END:DAYLIGHT
END:VTIMEZONE
BEGIN:VEVENT
ORGANIZER:MAILTO:office@muk.ac.at
UID:bc812c9b-3956-4d17-88de-5e2d152ddc5b
DTSTAMP:20101124T150000Z
DTSTART;TZID="W. Europe Standard Time":20101124T150000
DTEND;TZID="W. Europe Standard Time":20101124T150000
LOCATION:Musik und Kunst Privatuniversität der Stadt Wien, Konzertsaal
TRANSP:OPAQUE
SUMMARY:Grundlagen der Mensuralnotation und des Kontrapunkts um 1500: Eine praktische Einführung anhand von Originalquellen (Facsimilia)
DESCRIPTION:Prof. Dr. Margaret Bent, MusikwissenschaftlerinSeoul College, University of OxfordStudierende aller Abteilungen sind zum Workshop herzlich willkommen.Anmeldung möglich bei:Michael Posch, Abteilung Alte Musik (m. posch@konswien.ac.at)Susana Zapke, Master of Arts Education (s.zapke@konswien.ac.at)
PRIORITY:5
CLASS:PUBLIC
BEGIN:VALARM
TRIGGER:-PT15M
ACTION:DISPLAY
DESCRIPTION:Reminder
END:VALARM
END:VEVENT
END:VCALENDAR
