BEGIN:VCALENDAR
VERSION:2.0
PRODID:-//TYPO3/NONSGML MUK Events//EN
METHOD:PUBLISH
BEGIN:VTIMEZONE
TZID:W. Europe Standard Time
BEGIN:STANDARD
TZNAME:W. Europe Standard Time
DTSTART:20131105T100000
TZOFFSETFROM:+0200
TZOFFSETTO:+0100
RRULE:FREQ=YEARLY;BYDAY=-1SU;BYMONTH=10
END:STANDARD
BEGIN:DAYLIGHT
TZNAME:W. Europe Standard Time
DTSTART:16010101T020000
TZOFFSETFROM:+0100
TZOFFSETTO:+0200
RRULE:FREQ=YEARLY;BYDAY=-1SU;BYMONTH=3
END:DAYLIGHT
END:VTIMEZONE
BEGIN:VEVENT
ORGANIZER:MAILTO:office@muk.ac.at
UID:bc812c9b-3956-4d17-88de-5e2d152ddc5b
DTSTAMP:20131105T100000Z
DTSTART;TZID="W. Europe Standard Time":20131105T100000
DTEND;TZID="W. Europe Standard Time":20131105T123000
LOCATION:Konservatorium Wien Privatuniversität, BRA 3.25
TRANSP:OPAQUE
SUMMARY:Fredrik Lundin - Erasmus Kompositionspräsentation
DESCRIPTION:Montag, 4. November 2013:10.00-12.00 Uhr: Open rehearsal/Workshop (für alle Studierenden), BRA K.1013.30-16.00 Uhr: Workshop Saxophon, BRA E.14Dienstag, 5. November 2013:10.00-12.30 Uhr: Kompositionspräsentation, BRA 3.25Wednesday, 6. November 2013:10.00-12.00 Uhr: Ensemble Workshop II/Konzer, BRA K.10
Fredrik LundinSince arriving on the Danish Jazz scene in 1981 this elegant and explosive musician has been searching relentlessly into the realms of experimental and contemporary music. A truly original and virtuoso voice, performing in bands such as his own Offpiste Gurus, Fredrik Lundin Overdrive, Silhouette, as well as in the improv-trio Sound of Choice with Hasse Poulsen, Marilyn Mazur Group, the jazz quartet Jonas Johansen Move, and the Lundin Danemo Kvintett, that he co-leads with Swedish drummer Peter Danemo, featuring the legendary Jan Alan.Lundin is a distinguished composer for contemporary ensembles and jazz groups and has released 11 albums as a leader while appearing on 50 others. He's received numerous prizes and awards, among them two Danish Music Awards (Grammys) for best jazz release of the year and the Ben Webster Prize!www.reverbnation.com
PRIORITY:5
CLASS:PUBLIC
BEGIN:VALARM
TRIGGER:-PT15M
ACTION:DISPLAY
DESCRIPTION:Reminder
END:VALARM
END:VEVENT
END:VCALENDAR
