BEGIN:VCALENDAR
VERSION:2.0
PRODID:-//TYPO3/NONSGML MUK Events//EN
METHOD:PUBLISH
BEGIN:VTIMEZONE
TZID:W. Europe Standard Time
BEGIN:STANDARD
TZNAME:W. Europe Standard Time
DTSTART:20070427T193000
TZOFFSETFROM:+0200
TZOFFSETTO:+0100
RRULE:FREQ=YEARLY;BYDAY=-1SU;BYMONTH=10
END:STANDARD
BEGIN:DAYLIGHT
TZNAME:W. Europe Standard Time
DTSTART:16010101T020000
TZOFFSETFROM:+0100
TZOFFSETTO:+0200
RRULE:FREQ=YEARLY;BYDAY=-1SU;BYMONTH=3
END:DAYLIGHT
END:VTIMEZONE
BEGIN:VEVENT
ORGANIZER:MAILTO:office@muk.ac.at
UID:bc812c9b-3956-4d17-88de-5e2d152ddc5b
DTSTAMP:20070427T193000Z
DTSTART;TZID="W. Europe Standard Time":20070427T193000
DTEND;TZID="W. Europe Standard Time":20070427T193000
LOCATION:Musik und Kunst Privatuniversität der Stadt Wien, MUK.theater
TRANSP:OPAQUE
SUMMARY:DON’T KEEP IT PRIVATE
DESCRIPTION:Choreografieabend des 4. Jahrgangs der Abteilung Pädagogik für Modernen Tanz
… ein Kimono … maskenverhüllte Gesichter … schlagende Herzen … stimmhafte Kompositionen … bewegende Körpergeschichten … Das sind die Ingredienzien des diesjährigen zeitgenössischen Choreografieabends der Abteilung Pädagogik für Modernen Tanz. Im Zentrum steht die eigenschöpferische Kraft der zehn Jung-ChoreografInnen. Tragen Sie ihre Eindrücke nach außen: DON’T KEEP IT PRIVATE! 
Auf dem Programm stehen Kurzstücke, choreographiert und inszeniert von Domenika Arnetzeder, Johanna Feichtinger, Andrès Gensheimer, Marta Jozwiak, Anja Kolmanics, Beach Lee, Vera Neubauer, Madelaine Reiner, Andrea Sorna und Magdalena Wiesmann. Es tanzen Studierende der Abteilung Pädagogik für Modernen Tanz aus dem 1.-4.Jahrgang sowie zwei Studentinnen der Abteilung Ballett. 
Der Choreografieabend der Abteilung ist als Projektarbeit für den 4. Jahrgang konzipiert und ist zugleich der künstlerische Teil der Bachelor-Prüfung. Neben der Entwicklung eigenständiger choreografischer Konzepte und deren Umsetzung sind die Studierenden auch für die Bereiche Raumgestaltung, Kostüme und Lichtdesign verantwortlich. Weiters erstellen sie die Probenpläne und entwickeln Konzepte für die Bereiche PR (Texte, Fotografie). Die künstlerische Betreuung und Leitung des Abends liegt bei Manfred Aichinger.
PRIORITY:5
CLASS:PUBLIC
BEGIN:VALARM
TRIGGER:-PT15M
ACTION:DISPLAY
DESCRIPTION:Reminder
END:VALARM
END:VEVENT
END:VCALENDAR
