BEGIN:VCALENDAR
VERSION:2.0
PRODID:-//TYPO3/NONSGML MUK Events//EN
METHOD:PUBLISH
BEGIN:VTIMEZONE
TZID:W. Europe Standard Time
BEGIN:STANDARD
TZNAME:W. Europe Standard Time
DTSTART:20060213T000000
TZOFFSETFROM:+0200
TZOFFSETTO:+0100
RRULE:FREQ=YEARLY;BYDAY=-1SU;BYMONTH=10
END:STANDARD
BEGIN:DAYLIGHT
TZNAME:W. Europe Standard Time
DTSTART:16010101T020000
TZOFFSETFROM:+0100
TZOFFSETTO:+0200
RRULE:FREQ=YEARLY;BYDAY=-1SU;BYMONTH=3
END:DAYLIGHT
END:VTIMEZONE
BEGIN:VEVENT
ORGANIZER:MAILTO:office@muk.ac.at
UID:bc812c9b-3956-4d17-88de-5e2d152ddc5b
DTSTAMP:20060213T000000Z
DTSTART;TZID="W. Europe Standard Time":20060213T000000
DTEND;TZID="W. Europe Standard Time":20060216T000000
LOCATION:
TRANSP:OPAQUE
SUMMARY:Don Menza Bigband-Workshop und Konzert
DESCRIPTION:Don Menza wird von 13.-16. Februar 2006 (jeweils 10:00-14:00 Uhr) einen Workshop mit der Bigband der Abteilung Jazz der Konservatorium Wien Privatuniversität abhalten. Die Teilnahme am Workshop ist ausschließlich Studierenden der Konservatorium Wien Privatuniversität vorbehalten.Die Ergebnisse des Workshops präsentiert die Abteilung Jazz in einem Konzert am 16. Februar 2006 in Joe Zawinul's Birdland. Don Menza wird sowohl als Leiter und Solist mit der Bigband auftreten als auch in kleineren Formationen zu hören sein.
Die Bigband der Abteilung Jazz der Konservatorium Wien PrivatuniversitätSaxophone: Wolfgang Schiftner, Vera Rausch, Gerd Ortler, Lukas ReckenzainTrompeten: Tero Lindbergh, Simon Plötzeneder, Josef Fuchsberger, Mathias SchusterPosaunen: Alexander Lag, Thomas Wechselauer, Gerhard Schneider, Martin GrünzweigGitarre: Ronald PöpplKlavier: Markus GaudriotBass: Georg Schmelzer-ZiringerSchlagzeug: Roman Baumgartner
Leitung: Thomas Huber
Don MenzaGeboren 1936 in Buffalo, New York, studierte Saxophon an der State University in Fredonia, Autodidakt als Jazz Composer/Arranger. 1956 in der 7th Army Band in Deutschland, u.a. mit Don Ellis, Leo Wright, Cedar Walton. Er spielte in den Bands von Maynard Ferguson, Max Greger, Stan Kenton, Buddy Rich, Louis Bellson... Danach siedelte er sich in L.A. an und arbeitete für TV-, Studio- und Filmprojekte.
Aus dem Artikel THE DON MENZA BIG BAND (Menza Lines - Jazzed Media JM1009) - JAZZPODIUM November 2005:"Don Menza war schon immer ein kraftvoll und extrovertiert blasender Tenorsaxophonist mit großem, warmen, voluminösen, ja mächtigem Sound....Bereits 1956 tauchte er im süddeutschen Raum auf....In den USA saß er in den Bands von Maynard Ferguson und Stan Kenton, danach verlegte er seinen Wohnsitz nach München, wo er 4 Jahre bis 1968 Starsolist des Max Greger Orchesters war...Durch seine Arbeiten für das Buddy Rich Orchester und die Big Band von Louie Bellson wurde er international bekannt....Im Herbst 2004 wurde in Los Angeles sein stargespicktes Orchester bei einem Maynard Ferguson Tribut mitgeschnitten....Menza liefert mit seinem swingenden KLangkörper und den vielen profilierten Solisten wie Bobby Shew und Don Rader, Trompete, Lanny Morgan und Jack Nimitz, Saxophone, zeitlose und zugleich aktuelle Big-Band-Musik par excellence." 
PRIORITY:5
CLASS:PUBLIC
BEGIN:VALARM
TRIGGER:-PT15M
ACTION:DISPLAY
DESCRIPTION:Reminder
END:VALARM
END:VEVENT
END:VCALENDAR
