BEGIN:VCALENDAR
VERSION:2.0
PRODID:-//TYPO3/NONSGML MUK Events//EN
METHOD:PUBLISH
BEGIN:VTIMEZONE
TZID:W. Europe Standard Time
BEGIN:STANDARD
TZNAME:W. Europe Standard Time
DTSTART:20071207T193000
TZOFFSETFROM:+0200
TZOFFSETTO:+0100
RRULE:FREQ=YEARLY;BYDAY=-1SU;BYMONTH=10
END:STANDARD
BEGIN:DAYLIGHT
TZNAME:W. Europe Standard Time
DTSTART:16010101T020000
TZOFFSETFROM:+0100
TZOFFSETTO:+0200
RRULE:FREQ=YEARLY;BYDAY=-1SU;BYMONTH=3
END:DAYLIGHT
END:VTIMEZONE
BEGIN:VEVENT
ORGANIZER:MAILTO:office@muk.ac.at
UID:bc812c9b-3956-4d17-88de-5e2d152ddc5b
DTSTAMP:20071207T193000Z
DTSTART;TZID="W. Europe Standard Time":20071207T193000
DTEND;TZID="W. Europe Standard Time":20071207T193000
LOCATION:Musik und Kunst Privatuniversität der Stadt Wien, MUK.theater
TRANSP:OPAQUE
SUMMARY:Der Reigen, oder so ... Ein Musical
DESCRIPTION:nach Arthur Schnitzler
Produktion des 4. Jahrgangs der Abteilung Musikalisches Unterhaltungstheater
Den Reigen formieren sechs Personen in sechs Dialogen, die sich (mit Ausnahme des letzten) jeweils in Halbszenen vor und nach der geschlechtlichen Vereinigung aufteilen. Nach jeder Szene wird ein Partner ausgetauscht. In diesem Liebesreigen, in jenem Moment, auf den es Ihnen allen, dem Brutalsoldaten wie dem liebevollen Ehemann, ankommt, werden Standesunterschiede ebenso gleichgültig, wie sich der Übergang vom weniger Wichtigen zum Wichtigen (Klimax), von der Prostitution zur Ehe als bloßer Schein, als die Wiederkehr des ewig Gleichen herausstellt.
Regie: Erhard PauerRaum: Erhard Pauer und Ernst WilfingerMusikalische Leitung: Lior KretzerKostüm: Mimi ZuzanekChoreografie: Marcus TeschLichtdesign: Dulci JanProduktionsleitung und Assistenz: Michaela Riedl-SchlosserInspizienz: Doris RichterBühnenbildbau: Stefan MichelfeitTechnische Leitung: Ernst Wilfinger, Werner EichelbergerTechnische Koordination: Ernst WilfingerBühnenmeister: Harald LindermannTon: Martin Laumann
PRIORITY:5
CLASS:PUBLIC
BEGIN:VALARM
TRIGGER:-PT15M
ACTION:DISPLAY
DESCRIPTION:Reminder
END:VALARM
END:VEVENT
END:VCALENDAR
