BEGIN:VCALENDAR
VERSION:2.0
PRODID:-//TYPO3/NONSGML MUK Events//EN
METHOD:PUBLISH
BEGIN:VTIMEZONE
TZID:W. Europe Standard Time
BEGIN:STANDARD
TZNAME:W. Europe Standard Time
DTSTART:20060329T193000
TZOFFSETFROM:+0200
TZOFFSETTO:+0100
RRULE:FREQ=YEARLY;BYDAY=-1SU;BYMONTH=10
END:STANDARD
BEGIN:DAYLIGHT
TZNAME:W. Europe Standard Time
DTSTART:16010101T020000
TZOFFSETFROM:+0100
TZOFFSETTO:+0200
RRULE:FREQ=YEARLY;BYDAY=-1SU;BYMONTH=3
END:DAYLIGHT
END:VTIMEZONE
BEGIN:VEVENT
ORGANIZER:MAILTO:office@muk.ac.at
UID:bc812c9b-3956-4d17-88de-5e2d152ddc5b
DTSTAMP:20060329T193000Z
DTSTART;TZID="W. Europe Standard Time":20060329T193000
DTEND;TZID="W. Europe Standard Time":20060329T193000
LOCATION:Musik und Kunst Privatuniversität der Stadt Wien, MUK.theater
TRANSP:OPAQUE
SUMMARY:Der Diener zweier Herren
DESCRIPTION:Komödie von Carlo GoldoniDeutsch von HC Artmann
Produktion der Abteilung Schauspielder Konservatorium Wien Privatuniversität
BesetzungPantalone di Bisognosi           Julian Loidl Clarice, seine Tochter            Evelyn Ruzicka Dottore Lombardi                  Tobias Fend Silvio, dessen Sohn               Joachim Russo Beatrice Rasponi                   Andrea Haller Florindo Aretusi                     Roman Blumenschein Brighella, ein Gastwirt            Daniel Wagner Smeraldina, Zofe der Clarice  Zeynep Buyrac Truffaldino                            Hannes Perkmann
Inszenierung: Robert MeyerBühne: Gernot SommerfeldKostüme: Ingo KrüglerDramaturgie und Produktionsleitung: Alfred SchleppnikRegiehospitanz: Miriam Rubey, Ulrike Kremsner
Voraufführung: 28. März 2006Premiere: 29. März 2006
Carlo Goldonis Komödie Der Diener zweier Herren aus dem Jahr 1745 erzählt von Liebenden, deren glückliches Zusammenfinden durch alle möglichen Komplikationen und Wirrnisse erschwert wird. Im Mittelpunkt des Stücks steht allerdings das Doppelspiel des Dieners Truffaldino, der sich gleichzeitig bei zwei Herren verdingt und der „dumm und schlau zugleich ist“ (Goldoni). Die Konservatorium Wien Privatuniversität führt das Stück, das zwischen Goldonis Idee eines „reformierten“ Theaterspiels und der commedia dell’arte vermittelt, in der kongenialen Übersetzung des großen österreichischen Dichters HC Artmann auf. Wen anders könnte man sich als Regisseur von Goldonis Meisterwerk wünschen als Robert Meyer? Der Wunsch wurde Wahrheit: Robert Meyer, Burgschauspieler und Regisseur wird mit Studierenden der Abteilung Schauspiel den Diener zweier Herren erarbeiten. Das Publikum erwartet ein energiegeladenes Divertimento, die mitwirkenden Studierenden eine wertvolle Erfahrung — nicht zuletzt dank Robert Meyers Erfahrung als passionierter Ensemblespieler. 
PRIORITY:5
CLASS:PUBLIC
BEGIN:VALARM
TRIGGER:-PT15M
ACTION:DISPLAY
DESCRIPTION:Reminder
END:VALARM
END:VEVENT
END:VCALENDAR
