BEGIN:VCALENDAR
VERSION:2.0
PRODID:-//TYPO3/NONSGML MUK Events//EN
METHOD:PUBLISH
BEGIN:VTIMEZONE
TZID:W. Europe Standard Time
BEGIN:STANDARD
TZNAME:W. Europe Standard Time
DTSTART:20051210T193000
TZOFFSETFROM:+0200
TZOFFSETTO:+0100
RRULE:FREQ=YEARLY;BYDAY=-1SU;BYMONTH=10
END:STANDARD
BEGIN:DAYLIGHT
TZNAME:W. Europe Standard Time
DTSTART:16010101T020000
TZOFFSETFROM:+0100
TZOFFSETTO:+0200
RRULE:FREQ=YEARLY;BYDAY=-1SU;BYMONTH=3
END:DAYLIGHT
END:VTIMEZONE
BEGIN:VEVENT
ORGANIZER:MAILTO:office@muk.ac.at
UID:bc812c9b-3956-4d17-88de-5e2d152ddc5b
DTSTAMP:20051210T193000Z
DTSTART;TZID="W. Europe Standard Time":20051210T193000
DTEND;TZID="W. Europe Standard Time":20051210T193000
LOCATION:Musik und Kunst Privatuniversität der Stadt Wien, MUK.theater
TRANSP:OPAQUE
SUMMARY:&quot;Casting&quot;
DESCRIPTION:Eine musikalische Revue von Erhard Pauer und Michaela RiedlRegie: Erhard PauerMusikalische Leitung und Klavier: Lior KretzerChoreographie: Marcus TeschBühne und Kostüme: Andrea Bernd und Eva GumpenbergerMit Vincent Bueno, Joachim Feichtinger, Elise Hovdkinn, Jonny Kreuter, Lisa Polacek, Lutz Standop, Thomas Udalrik und Gloria Wind Was, wenn eine Gruppe von jungen Künstlern an einem Ensemble–Wettbewerb teilnimmt?Und was, wenn die Nummer mit einem Choreografen erarbeitet werden soll, der unerwartet keine Zeit hat? – Ja, was dann?Ein solches Szenario, in der eine Gruppe plötzlich „führerlos“ geworden und ganz auf sich selbst gestellt ist, malt die musikalische Revue Casting von Erhard Pauer und Michaela Riedl aus: Das Publikum wird nicht nur Zeuge der unvermeidlich auftretenden Konflikte und Krisen, sondern erhält vor allem auch einen Begriff davon, was es heißt, künstlerisch zu arbeiten, also eine Ensemblenummer sängerisch und choreografisch einzustudieren. Denn nicht alles ist Show… — oder doch?  
In Zusammenarbeit dem Theater der Jugend
Aufführungen an der Konservatorium Wien Privatuniversität: 10.—14. 12.Aufführungen im Wiener Metropol ab 26. 1. 2006.Achtung: Kartenreservierungen per nebenstehendem Onlineformular nur für die Aufführungen an der Konservatorium Wien Privatuniversität möglich. Kartenverkauf für die Aufführungen im Wiener Metropol am Veranstaltungsort (Restkarten) bzw. Abonnements beim Theater der Jugend.
PRIORITY:5
CLASS:PUBLIC
BEGIN:VALARM
TRIGGER:-PT15M
ACTION:DISPLAY
DESCRIPTION:Reminder
END:VALARM
END:VEVENT
END:VCALENDAR
