BEGIN:VCALENDAR
VERSION:2.0
PRODID:-//TYPO3/NONSGML MUK Events//EN
METHOD:PUBLISH
BEGIN:VTIMEZONE
TZID:W. Europe Standard Time
BEGIN:STANDARD
TZNAME:W. Europe Standard Time
DTSTART:20070315T200000
TZOFFSETFROM:+0200
TZOFFSETTO:+0100
RRULE:FREQ=YEARLY;BYDAY=-1SU;BYMONTH=10
END:STANDARD
BEGIN:DAYLIGHT
TZNAME:W. Europe Standard Time
DTSTART:16010101T020000
TZOFFSETFROM:+0100
TZOFFSETTO:+0200
RRULE:FREQ=YEARLY;BYDAY=-1SU;BYMONTH=3
END:DAYLIGHT
END:VTIMEZONE
BEGIN:VEVENT
ORGANIZER:MAILTO:office@muk.ac.at
UID:bc812c9b-3956-4d17-88de-5e2d152ddc5b
DTSTAMP:20070315T200000Z
DTSTART;TZID="W. Europe Standard Time":20070315T200000
DTEND;TZID="W. Europe Standard Time":20070315T200000
LOCATION:Musikverein Wien, Gläserner Saal/Magna Auditorium
TRANSP:OPAQUE
SUMMARY:Carte Blanche à Georg Friedrich Haas
DESCRIPTION:„Wenn etwas als Essenz seiner Musik bezeichnet werden kann, dann sind es Experimente mit dem Klang“ (Reinhard Kager). Die Rede ist hier von Georg Friedrich Haas, einem der renommiertesten österreichischen Komponisten. Aus dem mikrotonalen Kosmos eines Klanges und den Möglichkeiten der Klangerweitung durch Obertönigkeit schöpft Georg Friedrich Haas seine Ideen. Die Konservatorium Wien Privatuniversität hat den international anerkannten Künstler eingeladen mit Studierenden der KWU Werke aus eigener Hand und Arbeiten seiner Studierenden in einem gemeinsamen Prozess zu erarbeiten. Dadurch wird der direkte Austausch zwischen Komponisten und Interpreten als ein wesentlicher Aspekt zeitgenössischer Musik gefördert.Vor dem Konzert findet eine Gesprächsrunde statt, bei der Lehrende, Studierende und Veranstalter über die Aufführungspraxis in der neuen Musik diskutieren.Gesprächsrunde, vor dem Konzert um 18.00 Uhr:„Von Noten und Linien“ Aufführungspraxis in der zeitgenössischen MusikMit Ernst Theis, Georg Friedrich Haas, Yasuko Ueda, Thomas SchäferKonzertprogramm, Beginn 20.00 Uhr: Georg Friedrich Haas: "... Schatten ... durch unausdenkliche Wälder" Benedict Schiefer: Solo für 7 Michael Pelzel: "...figures perforées..." --Georg Friedrich Haas: Finale für Flöte SoloYasuko Ueda: To China Georg Friedrich Haas: tria ex unoStudierende der Konservatorium Wien PrivatuniversitätLeitung: Ernst Theis
In Kooperation mit der Gesellschaft der Musikfreunde in Wien.
PRIORITY:5
CLASS:PUBLIC
BEGIN:VALARM
TRIGGER:-PT15M
ACTION:DISPLAY
DESCRIPTION:Reminder
END:VALARM
END:VEVENT
END:VCALENDAR
