BEGIN:VCALENDAR
VERSION:2.0
PRODID:-//TYPO3/NONSGML MUK Events//EN
METHOD:PUBLISH
BEGIN:VTIMEZONE
TZID:W. Europe Standard Time
BEGIN:STANDARD
TZNAME:W. Europe Standard Time
DTSTART:20070302T090000
TZOFFSETFROM:+0200
TZOFFSETTO:+0100
RRULE:FREQ=YEARLY;BYDAY=-1SU;BYMONTH=10
END:STANDARD
BEGIN:DAYLIGHT
TZNAME:W. Europe Standard Time
DTSTART:16010101T020000
TZOFFSETFROM:+0100
TZOFFSETTO:+0200
RRULE:FREQ=YEARLY;BYDAY=-1SU;BYMONTH=3
END:DAYLIGHT
END:VTIMEZONE
BEGIN:VEVENT
ORGANIZER:MAILTO:office@muk.ac.at
UID:bc812c9b-3956-4d17-88de-5e2d152ddc5b
DTSTAMP:20070302T090000Z
DTSTART;TZID="W. Europe Standard Time":20070302T090000
DTEND;TZID="W. Europe Standard Time":20070302T090000
LOCATION:Musik und Kunst Privatuniversität der Stadt Wien, MUK.podium
TRANSP:OPAQUE
SUMMARY:&quot;... bevor wir alle ertrunken sind.&quot; Der Sinfoniker Kalevi Aho
DESCRIPTION:Internationales Symposion in Zusammenarbeit mit Finnischer Botschaft WienJeunesse
"Aho ist noch immer eines der bestgehüteten musikalischen Geheimnisse Finnlands. Ihm fehlen der Starstatus einer Saariaho, der trendig coole Glamour eines Lindberg und die engelhaften Heimsuchungen eines Rautavaara. Aber gut möglich, dass Ahos Musik sie alle überdauern wird. Er ist der wichtigste Sinfoniker Finnlands, wobei jedes seiner Werke auf vielfältigste Weise eher wie ein Konzert für Orchester funktioniert. Seiner waghalsigen und einfallsreichen Musik gelingt sowohl unmittelbar zugänglich zu sein als auch ihre Geheimnisse zu wahren."(Hilary Finch, The Times, 25. 2006 anlässlich der Uraufführung des Klarinettenkonzerts von Kalevi Aho Solist: Martin Fröst; 24.April, Barbican Centre London, Leitung: Osmo Vänskä, BBC SO)
TeilnehmerInnen des Symposions:Pekka Hako (Musikwissenschafter, Musikhistoriker, Soziologe, Publizist zahlreicher Bücher zur finnischen Musik; ehemaliger Leiter des FIMIC) Kalevi Aho im Kontext der der finnischen Musik der Gegenwart (in englischer Sprache)
Tomi Mäkelä (Univ.-Prof. Dr., Otto-von Guericke-Universität Magdeburg, Institut für Musik) Kalevi Aho und Jean Sibelius
Peter Revers (Univ.-Prof., Dr.; Universität für Musik und darstellende Kunst Graz) Rautavaara, Aho und die Sinfonik des 20. Jahrhunderts
Christa Jost (Dr. phil.; Mitherausgeberin der Richard Wagner-Gesamtausgabe mit Lehrauftrag an der Universität München)Die Dunkelheit hat mich eingeholt. Betrachtungen zu Kalevi Ahos Oper ”Bevor wir alle ertrunken sind”
Christoph Schlüren (Hrsg. der Studienpartituren „Repertoire Explorer“, Musiker-Coaching, Filmmusikberatung, Musikautor für Funk und Print, u. a. für Frankfurter Rundschau, Gramophone, Tempo, Klassik Heute, Fono etc.) Ahos Sinfonien im Kontext der heutigen Sinfonie
Alena Ey (Mag. phil.; Humboldt-Universität Berlin; Musikkritikerin "Märkische Allgemeine Zeitung") Kalevi Ahos 8. Sinfonie: Ein Wechselspiel kompositorischer Ebenen
Grzegorz Stopa (Leiter der Akkordeonklasse an der Konservatorium Wien Privatuniversität) Kalevi Ahos Akkordeonsonate "Black Birds" (mit musikalischem Vortrag)
Moderation: Christoph SchlürenIdee und Konzept: Peter Kislinger
Dauer: 9.00-12.30, 14.00-16.30 Uhr
Eintritt frei
---
Hinweise: 
Lahti Sinfonieorchester - Orchestra in residence der Jeunesse im Großen Saal des Wiener MusikvereinsRéka Szilvay, ViolinePaavali Jumppanen, KlavierOsmo Vänskä, Dirigent
28. 2., 19.30 UhrLeevi Madetoja Kullervo: Sinfonische Dichtung op. 15Jean Sibelius: Violinkonzert D-Moll, op. 47Kalevi Aho: Sinfonische Tänze (Hommage à Uuno Klami) [2001]
1. 3., 19.30 UhrJean Sibelius: Cassazione op. 6Jean Sibelius: Sinfonie Nr. 4 a-mollEinojuhani Rautavaara: Sinfonie Nr. 7 (Angel of Light) [1994]
2. 3., 18.45 UhrSteinerner Saal/Horst Haschek AuditoriumPeter Kislinger im Gespräch mit Kalevi Aho
19.30 UhrJean Sibelius: Tapiola, Tondichtung für Orchester op. 114Kalevi Aho: Klavierkonzert Nr. 2 (2000-2001)Joonas Kokkonen: Zwischenspiele aus der Oper Die letzten Versuchungen (1977)Jean Sibelius: Sinfonie Nr. 7 C-Dur op. 109 
3. 3., 19.30 UhrGläserner Saal/Magna AuditoriumLetzter Tag der Finno-Ugrischen Tage in Wien Akademie Streichquartett (Ungarn)György Ligeti: 1. Streichquartett Béla Bartók: 6. Streichquartett (3. Satz, Burletta) The New Tallin Trio (Estland) Erkki-Sven Tüür: Fata Morgana Arvo Pärt: Mozart-Adagio Tönu Körvits: Good NightSinfonia Lahti Chamber Ensemble (Finnland) Kalevi Aho: Klarinettenquintett Moderation: Peter Kislinger 
---
Lahti Symphony Orchestra in Residence: weitere Infos zu den Konzerten unter www.jeunesse.at 
---
PRIORITY:5
CLASS:PUBLIC
BEGIN:VALARM
TRIGGER:-PT15M
ACTION:DISPLAY
DESCRIPTION:Reminder
END:VALARM
END:VEVENT
END:VCALENDAR
