BEGIN:VCALENDAR
VERSION:2.0
PRODID:-//TYPO3/NONSGML MUK Events//EN
METHOD:PUBLISH
BEGIN:VTIMEZONE
TZID:W. Europe Standard Time
BEGIN:STANDARD
TZNAME:W. Europe Standard Time
DTSTART:20080516T200000
TZOFFSETFROM:+0200
TZOFFSETTO:+0100
RRULE:FREQ=YEARLY;BYDAY=-1SU;BYMONTH=10
END:STANDARD
BEGIN:DAYLIGHT
TZNAME:W. Europe Standard Time
DTSTART:16010101T020000
TZOFFSETFROM:+0100
TZOFFSETTO:+0200
RRULE:FREQ=YEARLY;BYDAY=-1SU;BYMONTH=3
END:DAYLIGHT
END:VTIMEZONE
BEGIN:VEVENT
ORGANIZER:MAILTO:office@muk.ac.at
UID:bc812c9b-3956-4d17-88de-5e2d152ddc5b
DTSTAMP:20080516T200000Z
DTSTART;TZID="W. Europe Standard Time":20080516T200000
DTEND;TZID="W. Europe Standard Time":20080516T200000
LOCATION:Musikverein Wien, Gläserner Saal/Magna Auditorium
TRANSP:OPAQUE
SUMMARY:Best of Jazz
DESCRIPTION:DAS Highlight der Abteilung Jazz der KWU - heuer bereits zum fünften Mal!
Studierende der Abteilung präsentieren sich in hochkarätigen Ensembles verschiedenster stilistischer Ausprägungen und Besetzungen, von Quintett bis Bigband, vokal und instrumental.Ein Höhepunkt des Konzertes wird das Projekt MINGUS MUSIC sein. Zusammen mit dem international höchst akklamierten österreichischen Kontrabassisten Peter Herbert wird ein Ausschnitt aus dem Repertoire des legendären Bassisten und Bandleaders Charles Mingus erarbeitet und zur Aufführung gebracht. Die Transkriptionen der Originalaufnahmen stammen von Robert M. Weiss.Als weiterer Stargast wird der amerikanische Saxophonist Gary Campbell auftreten, der im Mai als Gastlehrender an der Abteilung Jazz unterrichtet.In Zusammenarbeit mit der Gesellschaft der Musikfreunde in Wien.Programm:Inside Out (Randy Brecker)Three Views Of A Secret (Jaco Pastorius)  So You Say (John Scofield)No Mercy For Me (Joe Zawinul)
Fusion-EnsembleEinstudierung: Claus Spechtl
Manuela Diem, Elisabeth Dorn, Max Gaier, Gesang | Stefan Schalanda, Trompete | Claudia Idinger, Altsax | Gregor Siedl, Tenorsax | Lukas Jochner, Posaune | Orges Toce, Gitarre | Johannes M. Ripplinger, Gitarre | Dominik Beyer, Klavier | Gregor Kutschera, Bass | Hubert Bründlmayer, Schlagzeug
A Night In Tunisia (Dizzy Gillespie/Frank Paparelli)Free Kiss (Prince)
Klasse Ines Reiger, Jazz-Gesang
Elisabeth Dorn, Manuela Diem, Marion Feichter, Elisabeth Krenn, Bettina Krenosz, Maria Magdalena Kuchling, Alexandra Schenk, Kerstin Strahammer, Gesang | Dominik Beyer, Klavier | Gregor Kutschera, Bass | Thomas Käfel, Schlagzeug
Chick’s Tune (Chick Corea)Song and Dance (Gary Campbell)T.B.A. (Gary Campbell)Tenor Waltz (Gary Campbell)
Jazz-EnsembleEinstudierung: Willi Quarda, Gary Campbell
Gastsolist: Gary Campbell, Saxophon
Bastian Stein, Trompete | Andreas Tausch, Gitarre | Nicola Stanosevic, Klavier | Martin Heinzle, Bass | Thomas Käfel, Schlagzeug
----------
MINGUS MUSIC
Hora Decubitus (Charles Mingus)Theme For Lester Young (Charles Mingus)II.B.S. (Charles Mingus)Mood Indigo (Duke Ellington)Celia (Charles Mingus)Better Get Hit In Your Soul (Charles Mingus)
BigbandLeitung: Thomas Huber
Gastsolist: Peter Herbert, Kontrabass
Wolfgang Schiftner, Bernhard Wiesinger, Gregor Siedl, Lukas Reckenzain, Saxophone | Markus Exenberger, Bastian Stein, Trompeten | Bernhard Karoh, Posaune | Andreas Humpel, Tuba | Markus Gaudriot, Klavier | Hubert Bründlmayer, Schlagzeug
PRIORITY:5
CLASS:PUBLIC
BEGIN:VALARM
TRIGGER:-PT15M
ACTION:DISPLAY
DESCRIPTION:Reminder
END:VALARM
END:VEVENT
END:VCALENDAR
