BEGIN:VCALENDAR
VERSION:2.0
PRODID:-//TYPO3/NONSGML MUK Events//EN
METHOD:PUBLISH
BEGIN:VTIMEZONE
TZID:W. Europe Standard Time
BEGIN:STANDARD
TZNAME:W. Europe Standard Time
DTSTART:20060302T000000
TZOFFSETFROM:+0200
TZOFFSETTO:+0100
RRULE:FREQ=YEARLY;BYDAY=-1SU;BYMONTH=10
END:STANDARD
BEGIN:DAYLIGHT
TZNAME:W. Europe Standard Time
DTSTART:16010101T020000
TZOFFSETFROM:+0100
TZOFFSETTO:+0200
RRULE:FREQ=YEARLY;BYDAY=-1SU;BYMONTH=3
END:DAYLIGHT
END:VTIMEZONE
BEGIN:VEVENT
ORGANIZER:MAILTO:office@muk.ac.at
UID:bc812c9b-3956-4d17-88de-5e2d152ddc5b
DTSTAMP:20060302T000000Z
DTSTART;TZID="W. Europe Standard Time":20060302T000000
DTEND;TZID="W. Europe Standard Time":20060305T000000
LOCATION:Wiener Stadthalle
TRANSP:OPAQUE
SUMMARY:BeSt - Berufsinformationsmesse
DESCRIPTION:Die Konservatorium Wien Privatuniversität präsentiert sich mit ihrem Studienangebot auf der Berufsinformationsmesse in der Wiener Stadthalle (Stand K 07).
MessebesucherInnen sind herzlich eingeladen kostenlos an folgenden Workshops mit Lehrenden der Konservatorium Wien Privatuniversität teilzunehmen (Anmeldung erforderlich unter: workshop@bestinfo.at):
Sa, 4. März, 11:00 UhrAbt. Pädagogik für Modernen Tanz So, 5. März, 11:00 UhrAbt. Musikalisches Unterhaltungstheater  So, 5. März, 12:15 UhrAbt. Schauspiel Ort: Workshop-Raum 2
PRIORITY:5
CLASS:PUBLIC
BEGIN:VALARM
TRIGGER:-PT15M
ACTION:DISPLAY
DESCRIPTION:Reminder
END:VALARM
END:VEVENT
END:VCALENDAR
