BEGIN:VCALENDAR
VERSION:2.0
PRODID:-//TYPO3/NONSGML MUK Events//EN
METHOD:PUBLISH
BEGIN:VTIMEZONE
TZID:W. Europe Standard Time
BEGIN:STANDARD
TZNAME:W. Europe Standard Time
DTSTART:20080108T000000
TZOFFSETFROM:+0200
TZOFFSETTO:+0100
RRULE:FREQ=YEARLY;BYDAY=-1SU;BYMONTH=10
END:STANDARD
BEGIN:DAYLIGHT
TZNAME:W. Europe Standard Time
DTSTART:16010101T020000
TZOFFSETFROM:+0100
TZOFFSETTO:+0200
RRULE:FREQ=YEARLY;BYDAY=-1SU;BYMONTH=3
END:DAYLIGHT
END:VTIMEZONE
BEGIN:VEVENT
ORGANIZER:MAILTO:office@muk.ac.at
UID:bc812c9b-3956-4d17-88de-5e2d152ddc5b
DTSTAMP:20080108T000000Z
DTSTART;TZID="W. Europe Standard Time":20080108T000000
DTEND;TZID="W. Europe Standard Time":20080110T000000
LOCATION:Musik und Kunst Privatuniversität der Stadt Wien, MUK.podium
TRANSP:OPAQUE
SUMMARY:Bertl Mütter - Workshop Improvisation
DESCRIPTION:Workshop mit Studierenden der Abteilung Blasinstrumente und Schlagwerk mit AbschlusskonzertZeitplan: 8. 1. 200815.00-20.30 Uhr
9. 1. 2008 15.00-20.30 Uhr
10. 1. 200813.00-18.00 Uhr18.30 Uhr: Abschlusskonzert
bertl mütter über sich selbst: 
geb. 1965 in steyr, oberösterreich, lebt als freischaffender musiker, komponist und schreiber in wien und unterwegs. im zentrum seiner musikalischen arbeit steht das solospiel, er spielt aber auch gerne in gruppen, wenn das aufeinanderhören praktiziert wird. und er arbeitet mit den autoren franzobel, josef haslinger und gert jonke, sowie mit der lichtkünstlerin victoria coeln zusammen.
bertl mütter spielt auf einer aurora-posaune von robert schagerl.
staatsstipendium 2002, anton bruckner stipendium 2003, komponistenforum mittersill 2003, arbeitsstipendium des bundes 2005. keine weiteren ansuchen, neindanke.
zuletzt realisierte werke (auswahl): "born. rondo"; "piano sonata"; "holzstück mit blech"; "trombuhowabone"; "muetters dichters liebe"; "muetters muellerin"; "pour elise (oryctérope, bleue) pour un seul cor anglais";"nushu" für zwei bassklarinetten; "ognatango"; "verborte, geographisch-erotische sonate für sopran und bassflöte"; "6 patriotische excerpte für zwei trombonen"; "einspielen. ausspielen"; "weg. fluchtmusik"; "AEIOU für tiefes quintett"; "passagiere"; "schubert:winterreise:muetter". www.muetter.at
PRIORITY:5
CLASS:PUBLIC
BEGIN:VALARM
TRIGGER:-PT15M
ACTION:DISPLAY
DESCRIPTION:Reminder
END:VALARM
END:VEVENT
END:VCALENDAR
