BEGIN:VCALENDAR
VERSION:2.0
PRODID:-//TYPO3/NONSGML MUK Events//EN
METHOD:PUBLISH
BEGIN:VTIMEZONE
TZID:W. Europe Standard Time
BEGIN:STANDARD
TZNAME:W. Europe Standard Time
DTSTART:20070329T193000
TZOFFSETFROM:+0200
TZOFFSETTO:+0100
RRULE:FREQ=YEARLY;BYDAY=-1SU;BYMONTH=10
END:STANDARD
BEGIN:DAYLIGHT
TZNAME:W. Europe Standard Time
DTSTART:16010101T020000
TZOFFSETFROM:+0100
TZOFFSETTO:+0200
RRULE:FREQ=YEARLY;BYDAY=-1SU;BYMONTH=3
END:DAYLIGHT
END:VTIMEZONE
BEGIN:VEVENT
ORGANIZER:MAILTO:office@muk.ac.at
UID:bc812c9b-3956-4d17-88de-5e2d152ddc5b
DTSTAMP:20070329T193000Z
DTSTART;TZID="W. Europe Standard Time":20070329T193000
DTEND;TZID="W. Europe Standard Time":20070329T193000
LOCATION:Theater Akzent
TRANSP:OPAQUE
SUMMARY:ballett/modern/tanzt #2
DESCRIPTION:Produktion der Abteilung Ballettballett/modern/tanzt #2 präsentiert auch heuer wieder die Studierenden der Abteilung Ballett in einem vielfältigen und abwechslungsreichen Programm. Das Publikum hat die Gelegenheit, die TänzerInnen von morgen - Studierenden der beiden Bachelor-Studienrichtungen Klassisches Ballett und Ballett Modern - zu sehen. Der Abend spannt einen Bogen vom Ballett über Modernen Tanz hin zum Zeitgenössischen Tanz und repräsentiert damit auch das umfassende Ausbildungsspektrum der Tanzausbildung an der Konservatorium Wien Privatuniversität. Neben der Präsentation von Choreografien aus dem klassischen Repertoire steht der Abend ganz im Zeichen von Uraufführungen. Als Gäste der Abteilung entwickeln Esther Balfe und Giorgio Madia neue Stücke für die Studierenden. Weitere Uraufführungen werden von Leslie Hughes, Patricia Mis und Fabiana Pastorini kreiert.
PRIORITY:5
CLASS:PUBLIC
BEGIN:VALARM
TRIGGER:-PT15M
ACTION:DISPLAY
DESCRIPTION:Reminder
END:VALARM
END:VEVENT
END:VCALENDAR
