BEGIN:VCALENDAR
VERSION:2.0
PRODID:-//TYPO3/NONSGML MUK Events//EN
METHOD:PUBLISH
BEGIN:VTIMEZONE
TZID:W. Europe Standard Time
BEGIN:STANDARD
TZNAME:W. Europe Standard Time
DTSTART:20080128T193000
TZOFFSETFROM:+0200
TZOFFSETTO:+0100
RRULE:FREQ=YEARLY;BYDAY=-1SU;BYMONTH=10
END:STANDARD
BEGIN:DAYLIGHT
TZNAME:W. Europe Standard Time
DTSTART:16010101T020000
TZOFFSETFROM:+0100
TZOFFSETTO:+0200
RRULE:FREQ=YEARLY;BYDAY=-1SU;BYMONTH=3
END:DAYLIGHT
END:VTIMEZONE
BEGIN:VEVENT
ORGANIZER:MAILTO:office@muk.ac.at
UID:bc812c9b-3956-4d17-88de-5e2d152ddc5b
DTSTAMP:20080128T193000Z
DTSTART;TZID="W. Europe Standard Time":20080128T193000
DTEND;TZID="W. Europe Standard Time":20080128T193000
LOCATION:Musik und Kunst Privatuniversität der Stadt Wien, MUK.theater
TRANSP:OPAQUE
SUMMARY:Anything Goes
DESCRIPTION:Musical von Cole PorterEine Koproduktion der Abteilungen Musikalisches Unterhaltungstheater und Jazz Es spielen Studierende des 3., 2. und 1. Jahrgangs der Abteilung Musikalisches Unterhaltungstheater Orchester: Studierende der Abteilung Jazz 
Musikalische Leitung: Peter UwiraRegie: Alexandra Frankmann-KoeppChoreographie: Michael Reardon und Christoph RiedlBühnenbild: Sam MadwarKostüme: Doris RichterLichtdesign: Barbara Dulcinea Jan
In einer Koproduktion der Abteilung Musikalisches Unterhaltungstheater (Vorstand: Erhard Pauer) und Jazz (Vorstand: Thomas Huber) kommt man in den Genuss Cole Porters größte Hits zu hören: von You’re The Top und Let’s Do It bis zu I Get A Kick Out Of You.Nach der Uraufführung am Broadway im Jahre 1934, zwei Hollywood-Verfilmungen mit Bing Crosby (1936 und 1956) und einer Fernsehfassung mit Frank Sinatra (1954) ist das Stück seit dem Broadway Revival von 1987 wieder auf allen Bühnen der Welt zu Hause.Verwirrungen und Chaos am laufenden Band! Lassen Sie sich von einem jungen Ensemble verzaubern und zu einer schrägen Kreuzfahrt mit noch schrägeren Typen verführen.
PRIORITY:5
CLASS:PUBLIC
BEGIN:VALARM
TRIGGER:-PT15M
ACTION:DISPLAY
DESCRIPTION:Reminder
END:VALARM
END:VEVENT
END:VCALENDAR
