BEGIN:VCALENDAR
VERSION:2.0
PRODID:-//TYPO3/NONSGML MUK Events//EN
METHOD:PUBLISH
BEGIN:VTIMEZONE
TZID:W. Europe Standard Time
BEGIN:STANDARD
TZNAME:W. Europe Standard Time
DTSTART:20080503T153000
TZOFFSETFROM:+0200
TZOFFSETTO:+0100
RRULE:FREQ=YEARLY;BYDAY=-1SU;BYMONTH=10
END:STANDARD
BEGIN:DAYLIGHT
TZNAME:W. Europe Standard Time
DTSTART:16010101T020000
TZOFFSETFROM:+0100
TZOFFSETTO:+0200
RRULE:FREQ=YEARLY;BYDAY=-1SU;BYMONTH=3
END:DAYLIGHT
END:VTIMEZONE
BEGIN:VEVENT
ORGANIZER:MAILTO:office@muk.ac.at
UID:bc812c9b-3956-4d17-88de-5e2d152ddc5b
DTSTAMP:20080503T153000Z
DTSTART;TZID="W. Europe Standard Time":20080503T153000
DTEND;TZID="W. Europe Standard Time":20080503T153000
LOCATION:Musikverein Wien, Gläserner Saal/Magna Auditorium
TRANSP:OPAQUE
SUMMARY:Angelika Kirchschlager - Meisterklasse Gesang
DESCRIPTION:Nachtragstermin des abgesagten Termins (19. April).Die Eintrittskarten behalten ihre Gültigkeit.Programm:Robert Schumann (1810-1856)Waldesgespräch op. 39/3 (Joseph von Eichendorff)Anita Götz, Sopran 
Richard Strauss (1864- 1949) Hat gesagt - bleibt's nicht dabei op. 36/3 (Des Knaben Wunderhorn)Simona Oravcova, Sopran
Franz Schubert (1797-1828) An Silvia D 891 (Eduard von Bauernfeld)Gabriel Wyner, Bariton 
Robert Schumann (1810-1856):Requiem op. 90/ Nr. 7 (Altkatholisches Gedicht)Nina Bernsteiner, Sopran
Gioacchino Rossini (1792-1868)Arie der Rosina: „Una voce poco fa” aus Il barbiere di SivigliaKatarina Bradic, Mezzosopran
Johannes Brahms (1833-1897)Alte Liebe op. 72/1 (Karl A. Candidus)Melanie Henley Heyn, Sopran 
Robert Schumann (1810-1856)Was will die einsame Träne (Heinrich Heine) aus Myrten op. 25/21Mara Mastalir, Sopran
Die SängerInnen werden von Studierenden der Konservatorium Wien Privatuniversität aus der Liedkorrepetitionsklasse Carolyn Hague begleitet.In Zusammenarbeit mit der Gesellschaft der Musikfreunde in Wien
PRIORITY:5
CLASS:PUBLIC
BEGIN:VALARM
TRIGGER:-PT15M
ACTION:DISPLAY
DESCRIPTION:Reminder
END:VALARM
END:VEVENT
END:VCALENDAR
