BEGIN:VCALENDAR
VERSION:2.0
PRODID:-//TYPO3/NONSGML MUK Events//EN
METHOD:PUBLISH
BEGIN:VTIMEZONE
TZID:W. Europe Standard Time
BEGIN:STANDARD
TZNAME:W. Europe Standard Time
DTSTART:20070310T160000
TZOFFSETFROM:+0200
TZOFFSETTO:+0100
RRULE:FREQ=YEARLY;BYDAY=-1SU;BYMONTH=10
END:STANDARD
BEGIN:DAYLIGHT
TZNAME:W. Europe Standard Time
DTSTART:16010101T020000
TZOFFSETFROM:+0100
TZOFFSETTO:+0200
RRULE:FREQ=YEARLY;BYDAY=-1SU;BYMONTH=3
END:DAYLIGHT
END:VTIMEZONE
BEGIN:VEVENT
ORGANIZER:MAILTO:office@muk.ac.at
UID:bc812c9b-3956-4d17-88de-5e2d152ddc5b
DTSTAMP:20070310T160000Z
DTSTART;TZID="W. Europe Standard Time":20070310T160000
DTEND;TZID="W. Europe Standard Time":20070310T160000
LOCATION:Musik und Kunst Privatuniversität der Stadt Wien, MUK.podium
TRANSP:OPAQUE
SUMMARY:Als Fridolin Flöte flöten ging
DESCRIPTION:Eine Blockflötengeschichte für Kinder zum Mitspielen
Musik- und Singschule meets Konservatorium Wien PrivatuniversitätAbteilung Blasinstrumente und SchlagwerkComposer in Residence Helmut Schmidinger 
Sarah Perko, 1. BlockflöteAlexandra Sandor, 2. BlockflöteAdrienn Gaal, 3. BlockflöteKristina Hampl, 4. Blockflöte (als Gast von A5)Einstudierung und Sprecherin: Eva Obdrzalek Wir präsentieren eine Blockflötengeschichte, bei der Kinder (und auch Erwachsene) eingeladen sind mitzumachen. Alle handelnden Personen dieses Musiktheaterstücks werden von unterschiedlichen Blockflöten dargestellt, von der Sopraninoblockflöte bis zur fast drei Meter langen Subbassblockflöte.
Bitte ans Publikum: Blockflöten zum Mitspielen mitbringen - Sopranblockflöten, Altblockflöten, Tenorblockflöten, alle Instrument der Blockflötenfamilie sind willkommen. Nach dem Konzert können auf Wunsch alle Instrumente vom Publikum ausprobiert werden. 
PRIORITY:5
CLASS:PUBLIC
BEGIN:VALARM
TRIGGER:-PT15M
ACTION:DISPLAY
DESCRIPTION:Reminder
END:VALARM
END:VEVENT
END:VCALENDAR
