BEGIN:VCALENDAR
VERSION:2.0
PRODID:-//TYPO3/NONSGML MUK Events//EN
METHOD:PUBLISH
BEGIN:VTIMEZONE
TZID:W. Europe Standard Time
BEGIN:STANDARD
TZNAME:W. Europe Standard Time
DTSTART:20060313T160000
TZOFFSETFROM:+0200
TZOFFSETTO:+0100
RRULE:FREQ=YEARLY;BYDAY=-1SU;BYMONTH=10
END:STANDARD
BEGIN:DAYLIGHT
TZNAME:W. Europe Standard Time
DTSTART:16010101T020000
TZOFFSETFROM:+0100
TZOFFSETTO:+0200
RRULE:FREQ=YEARLY;BYDAY=-1SU;BYMONTH=3
END:DAYLIGHT
END:VTIMEZONE
BEGIN:VEVENT
ORGANIZER:MAILTO:office@muk.ac.at
UID:bc812c9b-3956-4d17-88de-5e2d152ddc5b
DTSTAMP:20060313T160000Z
DTSTART;TZID="W. Europe Standard Time":20060313T160000
DTEND;TZID="W. Europe Standard Time":20060315T150000
LOCATION:Konservatorium Wien Privatuniversität, Singerstraße Raum 1
TRANSP:OPAQUE
SUMMARY:Alfredo Bernardini - Meisterkurs historische Oboeninstrumente
DESCRIPTION:Dauer:
13. 3. 16-2114. 3. 10-13, 15-18; 19-21 (die letzten drei Stunden in Raum 2)15. 3. 10-15Aktive Teilnahme nur für ausgewählte Studierende der Abteilung Alte Musik.Interessiertes Publikum ist herzlich willkommen.Alfredo Bernardinis Name ist zu einem Synomyn für Barockoboenspiel in Perfektion geworden. 1961 in Rom geboren, übersiedelte Alfredo Bernardini 1981 nach Holland, um am Königlichen Konservatorium Den Haag Barockoboe und Alte Musik u. a. bei Bruce Haynes und Ku Ebbinge zu studieren. Seit seinem Solistendiplom 1987 tritt er regelmäßig mit den angesehensten Alte Musik-Ensembles wie Hesperion XX, Le Concert des Nations, La Petite Bande, dem Freiburger Barockorchester oder The English Concert auf. 1989 gründete er mit den Brüdern Paolo und Alberto Grazzi das Bläserensemble für Alte Musik Zefiro.Neben seinen solistischen Auftritten arbeitet Alfredo Bernardini auch als Dirigent mit verschiedenen europäischen Barockorchestern zusammen. Außerdem hält er regelmäßig Sommerkurse, u. a. in Urbino, Venedig, Barbaste und Innsbruck. Seit 1992 ist er Dozent für Barockoboe am Sweelinck-Konservatorium Amsterdam, seit 2002 auch an der Escola Superior de Música de Catalunya in Barcelona.
PRIORITY:5
CLASS:PUBLIC
BEGIN:VALARM
TRIGGER:-PT15M
ACTION:DISPLAY
DESCRIPTION:Reminder
END:VALARM
END:VEVENT
END:VCALENDAR
