BEGIN:VCALENDAR
VERSION:2.0
PRODID:-//TYPO3/NONSGML MUK Events//EN
METHOD:PUBLISH
BEGIN:VTIMEZONE
TZID:W. Europe Standard Time
BEGIN:STANDARD
TZNAME:W. Europe Standard Time
DTSTART:20051222T193000
TZOFFSETFROM:+0200
TZOFFSETTO:+0100
RRULE:FREQ=YEARLY;BYDAY=-1SU;BYMONTH=10
END:STANDARD
BEGIN:DAYLIGHT
TZNAME:W. Europe Standard Time
DTSTART:16010101T020000
TZOFFSETFROM:+0100
TZOFFSETTO:+0200
RRULE:FREQ=YEARLY;BYDAY=-1SU;BYMONTH=3
END:DAYLIGHT
END:VTIMEZONE
BEGIN:VEVENT
ORGANIZER:MAILTO:office@muk.ac.at
UID:bc812c9b-3956-4d17-88de-5e2d152ddc5b
DTSTAMP:20051222T193000Z
DTSTART;TZID="W. Europe Standard Time":20051222T193000
DTEND;TZID="W. Europe Standard Time":20051222T193000
LOCATION:Minoritenkirche
TRANSP:OPAQUE
SUMMARY:&quot;… a very jazzy xmas!&quot;
DESCRIPTION:Altbekanntes in neuem Gewand
Programm:
Aus Sister Act: Hail Holy Queen(Traditional/Arr.: Marc Shaiman/Guido Mancusi) Rescue Me  (Raynard Miner/Carl Smith) My God (William Robinson/Guido Mancusi) Just a Touch of Love  (Robert Clivilles) I Will Follow Him(Norman Gimbel/Arthur Altman/J. W. Stole/Del Roma) 
Winter Wonderland  (Felix Bernard) 
Oh Lord, What a Morning (Traditional/Guido Mancusi)
Joshua Fit the Battle of Jericho (Traditional/Guido Mancusi)
White Christmas(Irving Berlin/Guido Mancusi)
Santa Claus Is Coming To Town  (Maury Laws/Jules Bass)  
Have Yourself a Merry Little Christmas   (Hugh Martin/Ralph Blane) 
Santa Baby (Joan Javits/Phil Springer/Arr.: Guido Mancusi) 
Jingle Bells (Traditional/Guido Mancusi) 
Stille Nacht, heilige Nacht(Franz Xaver Gruber/Joseph Mohr/Guido Mancusi) 
Praise His Holy Name(Keith Hampton)  
Dagmar Bernhard, Sopran (Absolventin der Konservatorium Wien Privatuniversität)Sebastian Huppmann, Bariton (Klasse Birgid Steinberger/Carolyn Hague) Chor der Konservatorium Wien Privatuniversität 
Einstudierung: Guido Mancusi (Lehrender an der Konservatorium Wien Privatuniversität)
Jazzensemble:Lionel Bozek, Gitarre (Klasse Claus Spechtl)Carlos Barreto Néspoli, Bass (Klasse Harald Putz)Iryna Dankevych, Klavier (Klasse Aaron Wonesch)Jörg Leichtfried, Klavier (Klasse Oliver Kent)Sebastian Sigl, Schlagzeug (Klasse Fredvard Mühlhofer)Siegfried Mühlbauer, Vibraphon (Klasse Josef Gumpinger)
Einstudierung: Claus Spechtl (Lehrender an der Konservatorium Wien Privatuniversität)

PRIORITY:5
CLASS:PUBLIC
BEGIN:VALARM
TRIGGER:-PT15M
ACTION:DISPLAY
DESCRIPTION:Reminder
END:VALARM
END:VEVENT
END:VCALENDAR
